BEGIN:VCALENDAR
VERSION:2.0
PRODID:-//Martinos Center - ECPv6.15.17//NONSGML v1.0//EN
CALSCALE:GREGORIAN
METHOD:PUBLISH
X-WR-CALNAME:Martinos Center
X-ORIGINAL-URL:https://www.martinos.org
X-WR-CALDESC:Events for Martinos Center
REFRESH-INTERVAL;VALUE=DURATION:PT1H
X-Robots-Tag:noindex
X-PUBLISHED-TTL:PT1H
BEGIN:VTIMEZONE
TZID:America/New_York
BEGIN:DAYLIGHT
TZOFFSETFROM:-0500
TZOFFSETTO:-0400
TZNAME:EDT
DTSTART:20190310T070000
END:DAYLIGHT
BEGIN:STANDARD
TZOFFSETFROM:-0400
TZOFFSETTO:-0500
TZNAME:EST
DTSTART:20191103T060000
END:STANDARD
BEGIN:DAYLIGHT
TZOFFSETFROM:-0500
TZOFFSETTO:-0400
TZNAME:EDT
DTSTART:20200308T070000
END:DAYLIGHT
BEGIN:STANDARD
TZOFFSETFROM:-0400
TZOFFSETTO:-0500
TZNAME:EST
DTSTART:20201101T060000
END:STANDARD
BEGIN:DAYLIGHT
TZOFFSETFROM:-0500
TZOFFSETTO:-0400
TZNAME:EDT
DTSTART:20210314T070000
END:DAYLIGHT
BEGIN:STANDARD
TZOFFSETFROM:-0400
TZOFFSETTO:-0500
TZNAME:EST
DTSTART:20211107T060000
END:STANDARD
END:VTIMEZONE
BEGIN:VEVENT
DTSTART;TZID=America/New_York:20200708T120000
DTEND;TZID=America/New_York:20200708T130000
DTSTAMP:20260422T062640
CREATED:20200609T182050Z
LAST-MODIFIED:20200612T175133Z
UID:9299-1594209600-1594213200@www.martinos.org
SUMMARY:BrainMap: Making Sense of Time in the Human Mind
DESCRIPTION:Virginie van Wassenhove\, Ph.D.\, Research Director\, Université Paris-Sud\, France \nAbstract: \nLate 2008\, she moved to NeuroSpin (France) to build NeuroSpin MEG and her research group. The Cognition & Brain Dynamics lab mostly uses psychophysics and time-resolved neuroimaging to study temporal cognition\, with the understanding\, that humans’ conceptualization of time may dramatically affect how we conceive of the mind and brain. The neural mechanisms supporting temporal cognition remain debated considering they do not encompass a unitary brain function. Temporal cognition in humans is a composite of psychological realities ranging from the individuation and ordering of events to the feeling that time passes\, that things exist for a while (duration) or that we can mentally travel time. Several difficulties stand in the way of understanding psychological time: subjective temporalities emerge from the perspective of the brain – the generator\, actuator and observer of events – and not that of the external observer (the experimenter). The psychological time arrow\, taken as our sense of past-to-future\, is a convenient metaphor for how allo- and egocentric temporal cognitive maps may help the capacity to mentally travel time\, namely the capacity to generate a chronology of events suiting narratives. The ability to introspect about one’s timing productions (temporal metacognition) will further illustrate that time is “represented”\, thus coded\, and that the variability of timing is also constitutive of temporal representations. Altogether\, these recent findings go beyond our classic notions of temporal perception as duration and focus on the endogenous generation of high-level temporalities may yield abstract and intelligible representations of time in the human mind. \nBio: \nVirginie van Wassenhove is a CEA and INSERM Research Director at NeuroSpin\, France. She received her PhD in Neurosciences and Cognitive Sciences at the University of Maryland (College Park\, USA in 2004). Her thesis proposed the Analysis-by-Synthesis as a generative predictive coding framework for the integration of audiovisual speech in the human brain. \nIn 2005\, she joined the UCSF to study auditory and multisensory learning and plasticity with MEG. In 2006\, she relocated to a dual position at UCLA and at Caltech to work on multiple projects that included implicit statistical learning\, time perception\, gesture communication\, and interpersonal interactions. \nZoom Link: https://zoom.us/j/153319823 \nOr iPhone one-tap :\nUS: +13126266799\,\,153319823# or +16468769923\,\,153319823#\nOr Telephone:\nDial(for higher quality\, dial a number based on your current location):\nUS: +1 312 626 6799 or +1 646 876 9923 or +1 301 715 8592 or +1 346 248 7799 or +1 408 638 0968 or +1 669 900 6833 or +1 253 215 8782\nWebinar ID: 153 319 823\nInternational numbers available: https://zoom.us/u/adBWphwtx6 \n  \n\n  \nSpeaker \nVirginie van Wassenhove\, Ph.D.\, Research Director\, Université Paris-Sud\, France
URL:https://www.martinos.org/event/brainmap-200610/
CATEGORIES:BrainMap
END:VEVENT
END:VCALENDAR