BEGIN:VCALENDAR
VERSION:2.0
PRODID:-//Martinos Center - ECPv6.15.17//NONSGML v1.0//EN
CALSCALE:GREGORIAN
METHOD:PUBLISH
X-ORIGINAL-URL:https://www.martinos.org
X-WR-CALDESC:Events for Martinos Center
REFRESH-INTERVAL;VALUE=DURATION:PT1H
X-Robots-Tag:noindex
X-PUBLISHED-TTL:PT1H
BEGIN:VTIMEZONE
TZID:America/New_York
BEGIN:DAYLIGHT
TZOFFSETFROM:-0500
TZOFFSETTO:-0400
TZNAME:EDT
DTSTART:20200308T070000
END:DAYLIGHT
BEGIN:STANDARD
TZOFFSETFROM:-0400
TZOFFSETTO:-0500
TZNAME:EST
DTSTART:20201101T060000
END:STANDARD
BEGIN:DAYLIGHT
TZOFFSETFROM:-0500
TZOFFSETTO:-0400
TZNAME:EDT
DTSTART:20210314T070000
END:DAYLIGHT
BEGIN:STANDARD
TZOFFSETFROM:-0400
TZOFFSETTO:-0500
TZNAME:EST
DTSTART:20211107T060000
END:STANDARD
BEGIN:DAYLIGHT
TZOFFSETFROM:-0500
TZOFFSETTO:-0400
TZNAME:EDT
DTSTART:20220313T070000
END:DAYLIGHT
BEGIN:STANDARD
TZOFFSETFROM:-0400
TZOFFSETTO:-0500
TZNAME:EST
DTSTART:20221106T060000
END:STANDARD
END:VTIMEZONE
BEGIN:VEVENT
DTSTART;TZID=America/New_York:20211206T090000
DTEND;TZID=America/New_York:20211206T170000
DTSTAMP:20260420T115229
CREATED:20211126T145859Z
LAST-MODIFIED:20211126T150202Z
UID:11893-1638781200-1638810000@www.martinos.org
SUMMARY:BrainHack MGH 2021 - Day 1
DESCRIPTION:Join us on December 6th and 7th for BrainHack MGH hosted in close collaboration with BrainHack Nordic. \nLearn about the upcoming Brain Imaging Data Structure for PET (BIDS-PET)\, how to curate BIDS datasets and how to use tools like NeuroDocker and Nipype to improve the reproducibility and shareability of your processing pipelines. \nTo find out more and register\, visit https://openneuropet.github.io/brainhack/
URL:https://www.martinos.org/event/brainhack-2021-12-06/
CATEGORIES:BrainHack
ORGANIZER;CN="Gary Boas":MAILTO:gboas@mgh.harvard.edu
END:VEVENT
BEGIN:VEVENT
DTSTART;TZID=America/New_York:20211207T090000
DTEND;TZID=America/New_York:20211207T170000
DTSTAMP:20260420T115229
CREATED:20211126T150021Z
LAST-MODIFIED:20211126T153952Z
UID:11902-1638867600-1638896400@www.martinos.org
SUMMARY:BrainHack MGH 2021 - Day 2
DESCRIPTION:Join us on December 6th and 7th for BrainHack MGH hosted in close collaboration with BrainHack Nordic. \nLearn about the upcoming Brain Imaging Data Structure for PET (BIDS-PET)\, how to curate BIDS datasets and how to use tools like NeuroDocker and Nipype to improve the reproducibility and shareability of your processing pipelines. \nTo find out more and register\, visit https://openneuropet.github.io/brainhack/
URL:https://www.martinos.org/event/brainhack-2021-12-07/
CATEGORIES:BrainHack
ORGANIZER;CN="Gary Boas":MAILTO:gboas@mgh.harvard.edu
END:VEVENT
END:VCALENDAR