BEGIN:VCALENDAR
VERSION:2.0
PRODID:-//Martinos Center - ECPv6.15.17//NONSGML v1.0//EN
CALSCALE:GREGORIAN
METHOD:PUBLISH
X-ORIGINAL-URL:https://www.martinos.org
X-WR-CALDESC:Events for Martinos Center
REFRESH-INTERVAL;VALUE=DURATION:PT1H
X-Robots-Tag:noindex
X-PUBLISHED-TTL:PT1H
BEGIN:VTIMEZONE
TZID:America/New_York
BEGIN:DAYLIGHT
TZOFFSETFROM:-0500
TZOFFSETTO:-0400
TZNAME:EDT
DTSTART:20190310T070000
END:DAYLIGHT
BEGIN:STANDARD
TZOFFSETFROM:-0400
TZOFFSETTO:-0500
TZNAME:EST
DTSTART:20191103T060000
END:STANDARD
BEGIN:DAYLIGHT
TZOFFSETFROM:-0500
TZOFFSETTO:-0400
TZNAME:EDT
DTSTART:20200308T070000
END:DAYLIGHT
BEGIN:STANDARD
TZOFFSETFROM:-0400
TZOFFSETTO:-0500
TZNAME:EST
DTSTART:20201101T060000
END:STANDARD
BEGIN:DAYLIGHT
TZOFFSETFROM:-0500
TZOFFSETTO:-0400
TZNAME:EDT
DTSTART:20210314T070000
END:DAYLIGHT
BEGIN:STANDARD
TZOFFSETFROM:-0400
TZOFFSETTO:-0500
TZNAME:EST
DTSTART:20211107T060000
END:STANDARD
END:VTIMEZONE
BEGIN:VEVENT
DTSTART;TZID=America/New_York:20200507T120000
DTEND;TZID=America/New_York:20200507T130000
DTSTAMP:20260424T144159
CREATED:20200423T143304Z
LAST-MODIFIED:20200505T143455Z
UID:8969-1588852800-1588856400@www.martinos.org
SUMMARY:BrainMap: Advanced MRI for in vivo imaging of the effects of inflammation on the CNS
DESCRIPTION:Mara Cercignani\, Clinical Imaging Sciences Centre\, Department of Neuroscience\, Brighton and Sussex Medical School \nZoom Link: https://zoom.us/j/153319823 \nOr iPhone one-tap :\nUS: +13126266799\,\,153319823# or +16468769923\,\,153319823#\nOr Telephone:\nDial(for higher quality\, dial a number based on your current location):\nUS: +1 312 626 6799 or +1 646 876 9923 or +1 301 715 8592 or +1 346 248 7799 or +1 408 638 0968 or +1 669 900 6833 or +1 253 215 8782\nWebinar ID: 153 319 823\nInternational numbers available: https://zoom.us/u/adBWphwtx6 \n  \n\n  \nSpeaker \nMara Cercignani
URL:https://www.martinos.org/event/brainmap-200507/
CATEGORIES:BrainMap
END:VEVENT
BEGIN:VEVENT
DTSTART;TZID=America/New_York:20200514T120000
DTEND;TZID=America/New_York:20200514T130000
DTSTAMP:20260424T144159
CREATED:20200511T154019Z
LAST-MODIFIED:20200511T154019Z
UID:9140-1589457600-1589461200@www.martinos.org
SUMMARY:BrainMap: Characterizing Brain Microstructure using Magnetic Resonance Imaging: Toward in-vivo Histology
DESCRIPTION:Nikolaus Weiskopf \nDepartment of Neurophysics\, Max Planck Institute for Human Cognitive and Brain Sciences\, Leipzig\, Germany \nZoom Link: https://zoom.us/j/153319823 \nOr iPhone one-tap :\nUS: +13126266799\,\,153319823# or +16468769923\,\,153319823#\nOr Telephone:\nDial(for higher quality\, dial a number based on your current location):\nUS: +1 312 626 6799 or +1 646 876 9923 or +1 301 715 8592 or +1 346 248 7799 or +1 408 638 0968 or +1 669 900 6833 or +1 253 215 8782\nWebinar ID: 153 319 823\nInternational numbers available: https://zoom.us/u/adBWphwtx6 \n  \n\n  \nSpeaker \nNikolaus Weiskopf
URL:https://www.martinos.org/event/brainmap-200514/
CATEGORIES:BrainMap
END:VEVENT
BEGIN:VEVENT
DTSTART;TZID=America/New_York:20200521T120000
DTEND;TZID=America/New_York:20200521T130000
DTSTAMP:20260424T144159
CREATED:20200518T184932Z
LAST-MODIFIED:20200518T184932Z
UID:9191-1590062400-1590066000@www.martinos.org
SUMMARY:BrainMap: Multi-partner consortium to expand dementia research in Latin America (ReDLat)
DESCRIPTION:Agustin Ibanez\, Director of the Cognitive Neuroscience Center (CNC)\, Universidad de San Andres\, Argentina \nZoom Link: https://zoom.us/j/153319823 \nOr iPhone one-tap :\nUS: +13126266799\,\,153319823# or +16468769923\,\,153319823#\nOr Telephone:\nDial(for higher quality\, dial a number based on your current location):\nUS: +1 312 626 6799 or +1 646 876 9923 or +1 301 715 8592 or +1 346 248 7799 or +1 408 638 0968 or +1 669 900 6833 or +1 253 215 8782\nWebinar ID: 153 319 823\nInternational numbers available: https://zoom.us/u/adBWphwtx6
URL:https://www.martinos.org/event/brainmap-200521/
CATEGORIES:BrainMap
END:VEVENT
BEGIN:VEVENT
DTSTART;TZID=America/New_York:20200528T120000
DTEND;TZID=America/New_York:20200528T130000
DTSTAMP:20260424T144159
CREATED:20200526T164223Z
LAST-MODIFIED:20200526T164223Z
UID:9215-1590667200-1590670800@www.martinos.org
SUMMARY:BrainMap: Portable Point-of-Care Bedside MRI
DESCRIPTION:E. Brian Welch\, Ph.D.\, M.B.A.\, Director of Clinical Science\, Hyperfine\, Guilford\, CT \nAbstract:\nHow can we bring MRI to the most vulnerable patients? How can we timely provide MRI when and where it is truly needed? The Hyperfine portable point-of-care MRI scanner employs custom cutting-edge engineering approaches and applies the latest knowledge from the MR community to achieve the goal of bringing MRI to a patient’s bedside. I will describe my role as a Hyperfine clinical scientist and specific activities helping to validate the clinical utility of the world’s first commercial bedside MRI scanner. I will share some of the carefully selected technical specifications of the scanner and present real-world imaging results. \nBio:\nDr. Welch is a biomedical-electrical engineer (B.S. BME-E University of Southern California\, 1998) whose Ph.D. training at the Mayo Clinic College of Medicine focused on biomedical imaging. Specifically\, he is an expert in methods and software development for magnetic resonance imaging (MRI). His previous and ongoing work concentrates on overcoming the real-world limitations that hinder research and clinical applications of MRI. Strategies to overcome these challenges include hardware and software solutions\, alternative data acquisition and reconstruction methods\, novel MRI pulse sequences\, quantitative imaging methods and associated post-processing tools. Based on more than 20 years of experience in MRI and 6 years of work experience as the on-site Philips Healthcare MR clinical scientist supporting research projects at Vanderbilt University\, Dr. Welch acquired deep knowledge of the capabilities of the 3T and 7T human scanners housed at the Vanderbilt University Institute of Imaging Science (VUIIS). Dr. Welch applied that experience and knowledge to his own independent research programs as a Vanderbilt faculty member with contributions in the areas of fat-water MRI\, human brown adipose tissue imaging\, and continuously moving table MRI. Most recently\, Dr. Welch joined the startup company Hyperfine in 2017 as the Director of Clinical Science with the goal of validating the clinical utility of the world’s first portable point-of-care bedside MRI scanner. \nZoom Link: https://zoom.us/j/153319823 \nOr iPhone one-tap :\nUS: +13126266799\,\,153319823# or +16468769923\,\,153319823#\nOr Telephone:\nDial(for higher quality\, dial a number based on your current location):\nUS: +1 312 626 6799 or +1 646 876 9923 or +1 301 715 8592 or +1 346 248 7799 or +1 408 638 0968 or +1 669 900 6833 or +1 253 215 8782\nWebinar ID: 153 319 823\nInternational numbers available: https://zoom.us/u/adBWphwtx6 \n  \n\n  \nSpeaker \nE. Brian Welch\, Ph.D.\, M.B.A.\, Director of Clinical Science\, Hyperfine\, Guilford\, CT
URL:https://www.martinos.org/event/brainmap-200528/
CATEGORIES:BrainMap
END:VEVENT
END:VCALENDAR