BEGIN:VCALENDAR
VERSION:2.0
PRODID:-//Martinos Center - ECPv6.15.17//NONSGML v1.0//EN
CALSCALE:GREGORIAN
METHOD:PUBLISH
X-WR-CALNAME:Martinos Center
X-ORIGINAL-URL:https://www.martinos.org
X-WR-CALDESC:Events for Martinos Center
REFRESH-INTERVAL;VALUE=DURATION:PT1H
X-Robots-Tag:noindex
X-PUBLISHED-TTL:PT1H
BEGIN:VTIMEZONE
TZID:America/New_York
BEGIN:DAYLIGHT
TZOFFSETFROM:-0500
TZOFFSETTO:-0400
TZNAME:EDT
DTSTART:20200308T070000
END:DAYLIGHT
BEGIN:STANDARD
TZOFFSETFROM:-0400
TZOFFSETTO:-0500
TZNAME:EST
DTSTART:20201101T060000
END:STANDARD
BEGIN:DAYLIGHT
TZOFFSETFROM:-0500
TZOFFSETTO:-0400
TZNAME:EDT
DTSTART:20210314T070000
END:DAYLIGHT
BEGIN:STANDARD
TZOFFSETFROM:-0400
TZOFFSETTO:-0500
TZNAME:EST
DTSTART:20211107T060000
END:STANDARD
BEGIN:DAYLIGHT
TZOFFSETFROM:-0500
TZOFFSETTO:-0400
TZNAME:EDT
DTSTART:20220313T070000
END:DAYLIGHT
BEGIN:STANDARD
TZOFFSETFROM:-0400
TZOFFSETTO:-0500
TZNAME:EST
DTSTART:20221106T060000
END:STANDARD
END:VTIMEZONE
BEGIN:VEVENT
DTSTART;TZID=America/New_York:20210106T120000
DTEND;TZID=America/New_York:20210106T130000
DTSTAMP:20260424T021701
CREATED:20201224T151246Z
LAST-MODIFIED:20201224T151246Z
UID:10328-1609934400-1609938000@www.martinos.org
SUMMARY:BrainMap: Water and molecular imaging and spectroscopy: Friends or Foes?
DESCRIPTION:Prof. Lucio Frydman\, Department of Chemical and Biological Physics\, Weizmann Institute \nZoom Link: https://zoom.us/j/153319823 \nOr iPhone one-tap :\nUS: +13126266799\,\,153319823# or +16468769923\,\,153319823#\nOr Telephone:\nDial(for higher quality\, dial a number based on your current location):\nUS: +1 312 626 6799 or +1 646 876 9923 or +1 301 715 8592 or +1 346 248 7799 or +1 408 638 0968 or +1 669 900 6833 or +1 253 215 8782\nWebinar ID: 153 319 823\nInternational numbers available: https://zoom.us/u/adBWphwtx6 \n  \n\n  \nSpeaker \nProf. Lucio Frydman\, Department of Chemical and Biological Physics\, Weizmann Institute
URL:https://www.martinos.org/event/brainmap-210106/
CATEGORIES:BrainMap
END:VEVENT
BEGIN:VEVENT
DTSTART;TZID=America/New_York:20210113T090000
DTEND;TZID=America/New_York:20210113T100000
DTSTAMP:20260424T021701
CREATED:20210104T204310Z
LAST-MODIFIED:20210104T204310Z
UID:10340-1610528400-1610532000@www.martinos.org
SUMMARY:BrainMap: Mapping early brain network changes in neurodegenerative and cerebrovascular disorders: a longitudinal perspective
DESCRIPTION:Dr. Juan Helen Zhou\, National University of Singapore (NUS) \nZoom Link: https://zoom.us/j/153319823 \nOr iPhone one-tap :\nUS: +13126266799\,\,153319823# or +16468769923\,\,153319823#\nOr Telephone:\nDial(for higher quality\, dial a number based on your current location):\nUS: +1 312 626 6799 or +1 646 876 9923 or +1 301 715 8592 or +1 346 248 7799 or +1 408 638 0968 or +1 669 900 6833 or +1 253 215 8782\nWebinar ID: 153 319 823\nInternational numbers available: https://zoom.us/u/adBWphwtx6 \n  \n\n  \nSpeaker \nDr. Juan Helen Zhou\, National University of Singapore (NUS)
URL:https://www.martinos.org/event/brainmap-210113/
CATEGORIES:BrainMap
END:VEVENT
BEGIN:VEVENT
DTSTART;TZID=America/New_York:20210120T120000
DTEND;TZID=America/New_York:20210120T130000
DTSTAMP:20260424T021701
CREATED:20210107T161022Z
LAST-MODIFIED:20210107T161022Z
UID:10373-1611144000-1611147600@www.martinos.org
SUMMARY:BrainMap: Looking beyond scopes\, scans\, and smears: the future of cancer screening
DESCRIPTION:Dr. Sana Raoof\, MGH Cancer Center \nZoom Link: https://zoom.us/j/153319823 \nOr iPhone one-tap :\nUS: +13126266799\,\,153319823# or +16468769923\,\,153319823#\nOr Telephone:\nDial(for higher quality\, dial a number based on your current location):\nUS: +1 312 626 6799 or +1 646 876 9923 or +1 301 715 8592 or +1 346 248 7799 or +1 408 638 0968 or +1 669 900 6833 or +1 253 215 8782\nWebinar ID: 153 319 823\nInternational numbers available: https://zoom.us/u/adBWphwtx6 \n  \n\n  \nSpeaker \nDr. Sana Raoof\, MGH Cancer Center
URL:https://www.martinos.org/event/brainmap-210120/
CATEGORIES:BrainMap
END:VEVENT
BEGIN:VEVENT
DTSTART;TZID=America/New_York:20210127T120000
DTEND;TZID=America/New_York:20210127T130000
DTSTAMP:20260424T021701
CREATED:20210120T204255Z
LAST-MODIFIED:20210120T204255Z
UID:10427-1611748800-1611752400@www.martinos.org
SUMMARY:BrainMap: fMRI signals of social craving following acute social isolation in the human brain
DESCRIPTION:Dr. Livia Tomova\, University of Cambridge \nZoom Link: https://zoom.us/j/153319823 \nOr iPhone one-tap :\nUS: +13126266799\,\,153319823# or +16468769923\,\,153319823#\nOr Telephone:\nDial(for higher quality\, dial a number based on your current location):\nUS: +1 312 626 6799 or +1 646 876 9923 or +1 301 715 8592 or +1 346 248 7799 or +1 408 638 0968 or +1 669 900 6833 or +1 253 215 8782\nWebinar ID: 153 319 823\nInternational numbers available: https://zoom.us/u/adBWphwtx6 \n  \n\n  \nSpeaker \nDr. Livia Tomova\, University of Cambridge
URL:https://www.martinos.org/event/brainmap-210127/
CATEGORIES:BrainMap
END:VEVENT
END:VCALENDAR