BEGIN:VCALENDAR
VERSION:2.0
PRODID:-//Martinos Center - ECPv6.15.17//NONSGML v1.0//EN
CALSCALE:GREGORIAN
METHOD:PUBLISH
X-WR-CALNAME:Martinos Center
X-ORIGINAL-URL:https://www.martinos.org
X-WR-CALDESC:Events for Martinos Center
REFRESH-INTERVAL;VALUE=DURATION:PT1H
X-Robots-Tag:noindex
X-PUBLISHED-TTL:PT1H
BEGIN:VTIMEZONE
TZID:America/New_York
BEGIN:DAYLIGHT
TZOFFSETFROM:-0500
TZOFFSETTO:-0400
TZNAME:EDT
DTSTART:20200308T070000
END:DAYLIGHT
BEGIN:STANDARD
TZOFFSETFROM:-0400
TZOFFSETTO:-0500
TZNAME:EST
DTSTART:20201101T060000
END:STANDARD
BEGIN:DAYLIGHT
TZOFFSETFROM:-0500
TZOFFSETTO:-0400
TZNAME:EDT
DTSTART:20210314T070000
END:DAYLIGHT
BEGIN:STANDARD
TZOFFSETFROM:-0400
TZOFFSETTO:-0500
TZNAME:EST
DTSTART:20211107T060000
END:STANDARD
BEGIN:DAYLIGHT
TZOFFSETFROM:-0500
TZOFFSETTO:-0400
TZNAME:EDT
DTSTART:20220313T070000
END:DAYLIGHT
BEGIN:STANDARD
TZOFFSETFROM:-0400
TZOFFSETTO:-0500
TZNAME:EST
DTSTART:20221106T060000
END:STANDARD
END:VTIMEZONE
BEGIN:VEVENT
DTSTART;TZID=America/New_York:20210203T120000
DTEND;TZID=America/New_York:20210203T130000
DTSTAMP:20260424T004836
CREATED:20210119T165002Z
LAST-MODIFIED:20210119T165002Z
UID:10403-1612353600-1612357200@www.martinos.org
SUMMARY:BrainMap: Metabolic neuroimaging with hyperpolarized substrates: applications and clinical translations
DESCRIPTION:Jae Mo Park\, Ph.D.\, The University of Texas Southwestern Medical Center \nZoom Link: https://zoom.us/j/153319823 \nOr iPhone one-tap :\nUS: +13126266799\,\,153319823# or +16468769923\,\,153319823#\nOr Telephone:\nDial(for higher quality\, dial a number based on your current location):\nUS: +1 312 626 6799 or +1 646 876 9923 or +1 301 715 8592 or +1 346 248 7799 or +1 408 638 0968 or +1 669 900 6833 or +1 253 215 8782\nWebinar ID: 153 319 823\nInternational numbers available: https://zoom.us/u/adBWphwtx6 \n  \n\n  \nSpeaker \nJae Mo Park\, Ph.D.\, The University of Texas Southwestern Medical Center
URL:https://www.martinos.org/event/brainmap-210203/
CATEGORIES:BrainMap
END:VEVENT
BEGIN:VEVENT
DTSTART;TZID=America/New_York:20210210T120000
DTEND;TZID=America/New_York:20210210T130000
DTSTAMP:20260424T004836
CREATED:20210204T213915Z
LAST-MODIFIED:20210204T213915Z
UID:10526-1612958400-1612962000@www.martinos.org
SUMMARY:BrainMap: The essential role of multidisciplinary engineering in ultra high-field MRI
DESCRIPTION:Dr. Simone Winkler\, Weill Cornell Medicine \nZoom Link: https://zoom.us/j/153319823 \nOr iPhone one-tap :\nUS: +13126266799\,\,153319823# or +16468769923\,\,153319823#\nOr Telephone:\nDial(for higher quality\, dial a number based on your current location):\nUS: +1 312 626 6799 or +1 646 876 9923 or +1 301 715 8592 or +1 346 248 7799 or +1 408 638 0968 or +1 669 900 6833 or +1 253 215 8782\nWebinar ID: 153 319 823\nInternational numbers available: https://zoom.us/u/adBWphwtx6 \n  \n\n  \nSpeaker \nDr. Simone Winkler\, Weill Cornell Medicine
URL:https://www.martinos.org/event/brainmap-210210/
CATEGORIES:BrainMap
END:VEVENT
BEGIN:VEVENT
DTSTART;TZID=America/New_York:20210212T120000
DTEND;TZID=America/New_York:20210212T130000
DTSTAMP:20260424T004836
CREATED:20210205T184445Z
LAST-MODIFIED:20210205T184445Z
UID:10535-1613131200-1613134800@www.martinos.org
SUMMARY:BrainMap: Mapping the perivascular pathways: is there a back door to the CNS and is it barrier-free?
DESCRIPTION:Dr. Mikhail Papisov\, MGH and Shriners Hospital for Children \nZoom Link: https://zoom.us/j/153319823 \nOr iPhone one-tap :\nUS: +13126266799\,\,153319823# or +16468769923\,\,153319823#\nOr Telephone:\nDial(for higher quality\, dial a number based on your current location):\nUS: +1 312 626 6799 or +1 646 876 9923 or +1 301 715 8592 or +1 346 248 7799 or +1 408 638 0968 or +1 669 900 6833 or +1 253 215 8782\nWebinar ID: 153 319 823\nInternational numbers available: https://zoom.us/u/adBWphwtx6 \n  \n\n  \nSpeaker \nDr. Mikhail Papisov\, MGH and Shriners Hospital for Children
URL:https://www.martinos.org/event/brainmap-210212/
CATEGORIES:BrainMap
END:VEVENT
BEGIN:VEVENT
DTSTART;TZID=America/New_York:20210217T120000
DTEND;TZID=America/New_York:20210217T130000
DTSTAMP:20260424T004836
CREATED:20210216T150738Z
LAST-MODIFIED:20210216T150738Z
UID:10559-1613563200-1613566800@www.martinos.org
SUMMARY:BrainMap: Space\, Time and Fear: Survival decisions along defensive circuits
DESCRIPTION:Dean Mobbs\, Ph.D.\, California Institute of Technology \nZoom Link: https://zoom.us/j/153319823 \nOr iPhone one-tap :\nUS: +13126266799\,\,153319823# or +16468769923\,\,153319823#\nOr Telephone:\nDial(for higher quality\, dial a number based on your current location):\nUS: +1 312 626 6799 or +1 646 876 9923 or +1 301 715 8592 or +1 346 248 7799 or +1 408 638 0968 or +1 669 900 6833 or +1 253 215 8782\nWebinar ID: 153 319 823\nInternational numbers available: https://zoom.us/u/adBWphwtx6 \n  \n\n  \nSpeaker \nDean Mobbs\, Ph.D.\, California Institute of Technology
URL:https://www.martinos.org/event/brainmap-210217/
CATEGORIES:BrainMap
END:VEVENT
BEGIN:VEVENT
DTSTART;TZID=America/New_York:20210224T120000
DTEND;TZID=America/New_York:20210224T130000
DTSTAMP:20260424T004836
CREATED:20210216T151101Z
LAST-MODIFIED:20210216T151101Z
UID:10565-1614168000-1614171600@www.martinos.org
SUMMARY:BrainMap: Multi-scale imaging of neurogliovascular activity: Simultaneous cortex-wide cell-type specific fluorescence calcium imaging and whole-brain fMRI
DESCRIPTION:Evelyn Lake\, Ph.D.\, Yale University \nZoom Link: https://zoom.us/j/153319823 \nOr iPhone one-tap :\nUS: +13126266799\,\,153319823# or +16468769923\,\,153319823#\nOr Telephone:\nDial(for higher quality\, dial a number based on your current location):\nUS: +1 312 626 6799 or +1 646 876 9923 or +1 301 715 8592 or +1 346 248 7799 or +1 408 638 0968 or +1 669 900 6833 or +1 253 215 8782\nWebinar ID: 153 319 823\nInternational numbers available: https://zoom.us/u/adBWphwtx6 \n  \n\n  \nSpeaker \nEvelyn Lake\, Ph.D.\, Yale University
URL:https://www.martinos.org/event/brainmap-210224/
CATEGORIES:BrainMap
END:VEVENT
END:VCALENDAR