BEGIN:VCALENDAR
VERSION:2.0
PRODID:-//Martinos Center - ECPv6.15.17//NONSGML v1.0//EN
CALSCALE:GREGORIAN
METHOD:PUBLISH
X-WR-CALNAME:Martinos Center
X-ORIGINAL-URL:https://www.martinos.org
X-WR-CALDESC:Events for Martinos Center
REFRESH-INTERVAL;VALUE=DURATION:PT1H
X-Robots-Tag:noindex
X-PUBLISHED-TTL:PT1H
BEGIN:VTIMEZONE
TZID:America/New_York
BEGIN:DAYLIGHT
TZOFFSETFROM:-0500
TZOFFSETTO:-0400
TZNAME:EDT
DTSTART:20200308T070000
END:DAYLIGHT
BEGIN:STANDARD
TZOFFSETFROM:-0400
TZOFFSETTO:-0500
TZNAME:EST
DTSTART:20201101T060000
END:STANDARD
BEGIN:DAYLIGHT
TZOFFSETFROM:-0500
TZOFFSETTO:-0400
TZNAME:EDT
DTSTART:20210314T070000
END:DAYLIGHT
BEGIN:STANDARD
TZOFFSETFROM:-0400
TZOFFSETTO:-0500
TZNAME:EST
DTSTART:20211107T060000
END:STANDARD
BEGIN:DAYLIGHT
TZOFFSETFROM:-0500
TZOFFSETTO:-0400
TZNAME:EDT
DTSTART:20220313T070000
END:DAYLIGHT
BEGIN:STANDARD
TZOFFSETFROM:-0400
TZOFFSETTO:-0500
TZNAME:EST
DTSTART:20221106T060000
END:STANDARD
END:VTIMEZONE
BEGIN:VEVENT
DTSTART;TZID=America/New_York:20210901T120000
DTEND;TZID=America/New_York:20210901T130000
DTSTAMP:20260423T150038
CREATED:20210830T173640Z
LAST-MODIFIED:20210830T173640Z
UID:11499-1630497600-1630501200@www.martinos.org
SUMMARY:BrainMap: Sub-voxel (multicomponent) MRI based on a new quantitative T2 mapping Technique
DESCRIPTION:Speaker \nDr. Noam Ben Eliezer\, TAU and NYU \nZoom Link: https://zoom.us/j/153319823 \nOr iPhone one-tap :\nUS: +13126266799\,\,153319823# or +16468769923\,\,153319823#\nOr Telephone:\nDial(for higher quality\, dial a number based on your current location):\nUS: +1 312 626 6799 or +1 646 876 9923 or +1 301 715 8592 or +1 346 248 7799 or +1 408 638 0968 or +1 669 900 6833 or +1 253 215 8782\nWebinar ID: 153 319 823\nInternational numbers available: https://zoom.us/u/adBWphwtx6 \n  \n\n 
URL:https://www.martinos.org/event/brainmap-090121/
CATEGORIES:BrainMap
END:VEVENT
BEGIN:VEVENT
DTSTART;TZID=America/New_York:20210908T120000
DTEND;TZID=America/New_York:20210908T130000
DTSTAMP:20260423T150038
CREATED:20210903T145648Z
LAST-MODIFIED:20210903T145648Z
UID:11523-1631102400-1631106000@www.martinos.org
SUMMARY:BrainMap: Introduction to the Center for Ultrasound Research & Translation
DESCRIPTION:Speaker \nAnthony Samir\, M.D.\, Massachusetts General Hospital and Harvard Medical School \nZoom Link: https://zoom.us/j/153319823 \nOr iPhone one-tap :\nUS: +13126266799\,\,153319823# or +16468769923\,\,153319823#\nOr Telephone:\nDial(for higher quality\, dial a number based on your current location):\nUS: +1 312 626 6799 or +1 646 876 9923 or +1 301 715 8592 or +1 346 248 7799 or +1 408 638 0968 or +1 669 900 6833 or +1 253 215 8782\nWebinar ID: 153 319 823\nInternational numbers available: https://zoom.us/u/adBWphwtx6 \n  \n\n 
URL:https://www.martinos.org/event/brainmap-21-08-09/
CATEGORIES:BrainMap
END:VEVENT
BEGIN:VEVENT
DTSTART;TZID=America/New_York:20210915T120000
DTEND;TZID=America/New_York:20210915T130000
DTSTAMP:20260423T150038
CREATED:20210913T140313Z
LAST-MODIFIED:20210913T140313Z
UID:11535-1631707200-1631710800@www.martinos.org
SUMMARY:BrainMap: Aggregating brain structural and functional properties to better understand cognitive aging
DESCRIPTION:Speaker \nDr. Kristen Kennedy\, PhD \nAssociate Professor\, Dept. of Psychology \nCognition and Neuroscience Doctoral Program Head \nSchool of Behavioral and Brain Sciences | Center for Vital Longevity \nThe University of Texas at Dallas \n  \nZoom Link: https://zoom.us/j/153319823 \nOr iPhone one-tap :\nUS: +13126266799\,\,153319823# or +16468769923\,\,153319823#\nOr Telephone:\nDial(for higher quality\, dial a number based on your current location):\nUS: +1 312 626 6799 or +1 646 876 9923 or +1 301 715 8592 or +1 346 248 7799 or +1 408 638 0968 or +1 669 900 6833 or +1 253 215 8782\nWebinar ID: 153 319 823\nInternational numbers available: https://zoom.us/u/adBWphwtx6 \n  \n\n 
URL:https://www.martinos.org/event/brainmap-21-09-15/
CATEGORIES:BrainMap
END:VEVENT
BEGIN:VEVENT
DTSTART;TZID=America/New_York:20210922T120000
DTEND;TZID=America/New_York:20210922T130000
DTSTAMP:20260423T150038
CREATED:20210920T132755Z
LAST-MODIFIED:20210920T132755Z
UID:11556-1632312000-1632315600@www.martinos.org
SUMMARY:BrainMap: Whole-brain fMRI of the behaving mouse | Dr. Itamar Kahn\, Columbia University
DESCRIPTION:Speaker \nDr. Itamar Kahn\, Columbia University \n  \nZoom Link: https://zoom.us/j/153319823 \nOr iPhone one-tap :\nUS: +13126266799\,\,153319823# or +16468769923\,\,153319823#\nOr Telephone:\nDial(for higher quality\, dial a number based on your current location):\nUS: +1 312 626 6799 or +1 646 876 9923 or +1 301 715 8592 or +1 346 248 7799 or +1 408 638 0968 or +1 669 900 6833 or +1 253 215 8782\nWebinar ID: 153 319 823\nInternational numbers available: https://zoom.us/u/adBWphwtx6 \n  \n\n 
URL:https://www.martinos.org/event/brainmap-21-09-22/
CATEGORIES:BrainMap
END:VEVENT
BEGIN:VEVENT
DTSTART;TZID=America/New_York:20210929T120000
DTEND;TZID=America/New_York:20210929T130000
DTSTAMP:20260423T150038
CREATED:20210923T201329Z
LAST-MODIFIED:20210923T201329Z
UID:11565-1632916800-1632920400@www.martinos.org
SUMMARY:BrainMap: On the quantification of axon diameter distributions using diffusion MRI
DESCRIPTION:Speaker \nJelle Veraart\, Department of Radiology at NYU Grossman School of Medicine \n  \nZoom Link: https://zoom.us/j/153319823 \nOr iPhone one-tap :\nUS: +13126266799\,\,153319823# or +16468769923\,\,153319823#\nOr Telephone:\nDial(for higher quality\, dial a number based on your current location):\nUS: +1 312 626 6799 or +1 646 876 9923 or +1 301 715 8592 or +1 346 248 7799 or +1 408 638 0968 or +1 669 900 6833 or +1 253 215 8782\nWebinar ID: 153 319 823\nInternational numbers available: https://zoom.us/u/adBWphwtx6 \n  \n\n 
URL:https://www.martinos.org/event/2021-09-23/
CATEGORIES:BrainMap
END:VEVENT
END:VCALENDAR