BEGIN:VCALENDAR
VERSION:2.0
PRODID:-//Martinos Center - ECPv6.15.17//NONSGML v1.0//EN
CALSCALE:GREGORIAN
METHOD:PUBLISH
X-ORIGINAL-URL:https://www.martinos.org
X-WR-CALDESC:Events for Martinos Center
REFRESH-INTERVAL;VALUE=DURATION:PT1H
X-Robots-Tag:noindex
X-PUBLISHED-TTL:PT1H
BEGIN:VTIMEZONE
TZID:America/New_York
BEGIN:DAYLIGHT
TZOFFSETFROM:-0500
TZOFFSETTO:-0400
TZNAME:EDT
DTSTART:20210314T070000
END:DAYLIGHT
BEGIN:STANDARD
TZOFFSETFROM:-0400
TZOFFSETTO:-0500
TZNAME:EST
DTSTART:20211107T060000
END:STANDARD
BEGIN:DAYLIGHT
TZOFFSETFROM:-0500
TZOFFSETTO:-0400
TZNAME:EDT
DTSTART:20220313T070000
END:DAYLIGHT
BEGIN:STANDARD
TZOFFSETFROM:-0400
TZOFFSETTO:-0500
TZNAME:EST
DTSTART:20221106T060000
END:STANDARD
BEGIN:DAYLIGHT
TZOFFSETFROM:-0500
TZOFFSETTO:-0400
TZNAME:EDT
DTSTART:20230312T070000
END:DAYLIGHT
BEGIN:STANDARD
TZOFFSETFROM:-0400
TZOFFSETTO:-0500
TZNAME:EST
DTSTART:20231105T060000
END:STANDARD
END:VTIMEZONE
BEGIN:VEVENT
DTSTART;TZID=America/New_York:20220202T120000
DTEND;TZID=America/New_York:20220202T130000
DTSTAMP:20260423T070839
CREATED:20220126T215851Z
LAST-MODIFIED:20220126T215851Z
UID:12130-1643803200-1643806800@www.martinos.org
SUMMARY:BrainMap: Advancing Musculoskeletal MRI with Theoretical and Computational Signal Modeling
DESCRIPTION:Speaker \nDr. Bragi Sveinsson\, Athinoula A. Martinos Center for Biomedical Imaging at Massachusetts General Hospital and Harvard Medical School \nZoom Link: https://zoom.us/j/153319823 \nOr iPhone one-tap :\nUS: +13126266799\,\,153319823# or +16468769923\,\,153319823#\nOr Telephone:\nDial(for higher quality\, dial a number based on your current location):\nUS: +1 312 626 6799 or +1 646 876 9923 or +1 301 715 8592 or +1 346 248 7799 or +1 408 638 0968 or +1 669 900 6833 or +1 253 215 8782\nWebinar ID: 153 319 823\nInternational numbers available: https://zoom.us/u/adBWphwtx6 \n  \n\n 
URL:https://www.martinos.org/event/brainmap-22-01-26/
CATEGORIES:BrainMap
END:VEVENT
BEGIN:VEVENT
DTSTART;TZID=America/New_York:20220209T120000
DTEND;TZID=America/New_York:20220209T130000
DTSTAMP:20260423T070839
CREATED:20220203T184318Z
LAST-MODIFIED:20220203T184647Z
UID:12178-1644408000-1644411600@www.martinos.org
SUMMARY:BrainMap: Oscillatory building blocks underlying perception & cognition
DESCRIPTION:Speaker \nSaskia Haegens; \nDept. of Psychiatry\, Columbia University; New York State Psychiatric Institute; \nDonders Centre for Cognitive Neuroimaging \nZoom Link: https://zoom.us/j/153319823 \nOr iPhone one-tap :\nUS: +13126266799\,\,153319823# or +16468769923\,\,153319823#\nOr Telephone:\nDial(for higher quality\, dial a number based on your current location):\nUS: +1 312 626 6799 or +1 646 876 9923 or +1 301 715 8592 or +1 346 248 7799 or +1 408 638 0968 or +1 669 900 6833 or +1 253 215 8782\nWebinar ID: 153 319 823\nInternational numbers available: https://zoom.us/u/adBWphwtx6 \n  \n\n 
URL:https://www.martinos.org/event/brainmap-22-02-09/
CATEGORIES:BrainMap
END:VEVENT
BEGIN:VEVENT
DTSTART;TZID=America/New_York:20220216T120000
DTEND;TZID=America/New_York:20220216T130000
DTSTAMP:20260423T070839
CREATED:20220208T203033Z
LAST-MODIFIED:20220208T203033Z
UID:12184-1645012800-1645016400@www.martinos.org
SUMMARY:BrainMap: Personal space: where we stand now
DESCRIPTION:Speaker \nRoger Tootel\, PhD\, Athinoula A. Martinos Center for Biomedical Imaging\, MGH and HMS \nZoom Link: https://zoom.us/j/153319823 \nOr iPhone one-tap :\nUS: +13126266799\,\,153319823# or +16468769923\,\,153319823#\nOr Telephone:\nDial(for higher quality\, dial a number based on your current location):\nUS: +1 312 626 6799 or +1 646 876 9923 or +1 301 715 8592 or +1 346 248 7799 or +1 408 638 0968 or +1 669 900 6833 or +1 253 215 8782\nWebinar ID: 153 319 823\nInternational numbers available: https://zoom.us/u/adBWphwtx6 \n  \n\n 
URL:https://www.martinos.org/event/brainmap-22-02-16/
CATEGORIES:BrainMap
END:VEVENT
BEGIN:VEVENT
DTSTART;TZID=America/New_York:20220223T120000
DTEND;TZID=America/New_York:20220223T130000
DTSTAMP:20260423T070839
CREATED:20220217T172514Z
LAST-MODIFIED:20220217T172514Z
UID:12209-1645617600-1645621200@www.martinos.org
SUMMARY:BrainMap: Measuring Blood-brain Barrier Function with MRI - New Methods and Old
DESCRIPTION:Speaker \nGeoff Parker\, Professor of Healthcare Engineering\, Imaging and Enterprise\, University College London \nZoom Link: https://zoom.us/j/153319823 \nOr iPhone one-tap :\nUS: +13126266799\,\,153319823# or +16468769923\,\,153319823#\nOr Telephone:\nDial(for higher quality\, dial a number based on your current location):\nUS: +1 312 626 6799 or +1 646 876 9923 or +1 301 715 8592 or +1 346 248 7799 or +1 408 638 0968 or +1 669 900 6833 or +1 253 215 8782\nWebinar ID: 153 319 823\nInternational numbers available: https://zoom.us/u/adBWphwtx6 \n  \n\n 
URL:https://www.martinos.org/event/brainmap-2022-02-23/
CATEGORIES:BrainMap
END:VEVENT
END:VCALENDAR