BEGIN:VCALENDAR
VERSION:2.0
PRODID:-//Martinos Center - ECPv6.15.17//NONSGML v1.0//EN
CALSCALE:GREGORIAN
METHOD:PUBLISH
X-WR-CALNAME:Martinos Center
X-ORIGINAL-URL:https://www.martinos.org
X-WR-CALDESC:Events for Martinos Center
REFRESH-INTERVAL;VALUE=DURATION:PT1H
X-Robots-Tag:noindex
X-PUBLISHED-TTL:PT1H
BEGIN:VTIMEZONE
TZID:America/New_York
BEGIN:DAYLIGHT
TZOFFSETFROM:-0500
TZOFFSETTO:-0400
TZNAME:EDT
DTSTART:20220313T070000
END:DAYLIGHT
BEGIN:STANDARD
TZOFFSETFROM:-0400
TZOFFSETTO:-0500
TZNAME:EST
DTSTART:20221106T060000
END:STANDARD
BEGIN:DAYLIGHT
TZOFFSETFROM:-0500
TZOFFSETTO:-0400
TZNAME:EDT
DTSTART:20230312T070000
END:DAYLIGHT
BEGIN:STANDARD
TZOFFSETFROM:-0400
TZOFFSETTO:-0500
TZNAME:EST
DTSTART:20231105T060000
END:STANDARD
BEGIN:DAYLIGHT
TZOFFSETFROM:-0500
TZOFFSETTO:-0400
TZNAME:EDT
DTSTART:20240310T070000
END:DAYLIGHT
BEGIN:STANDARD
TZOFFSETFROM:-0400
TZOFFSETTO:-0500
TZNAME:EST
DTSTART:20241103T060000
END:STANDARD
END:VTIMEZONE
BEGIN:VEVENT
DTSTART;TZID=America/New_York:20230201T120000
DTEND;TZID=America/New_York:20230201T130000
DTSTAMP:20260422T122755
CREATED:20230123T215505Z
LAST-MODIFIED:20230123T215505Z
UID:13946-1675252800-1675256400@www.martinos.org
SUMMARY:BrainMap: Tracing Glutamate Neurotransmission
DESCRIPTION:Speaker \nNisha Singh PhD\, University of Oxford \nZoom Link: https://zoom.us/j/153319823 \nOr iPhone one-tap :\nUS: +13126266799\,\,153319823# or +16468769923\,\,153319823#\nOr Telephone:\nDial(for higher quality\, dial a number based on your current location):\nUS: +1 312 626 6799 or +1 646 876 9923 or +1 301 715 8592 or +1 346 248 7799 or +1 408 638 0968 or +1 669 900 6833 or +1 253 215 8782\nWebinar ID: 153 319 823\nInternational numbers available: https://zoom.us/u/adBWphwtx6 \n  \n\n 
URL:https://www.martinos.org/event/brainmap-23-01-23/
CATEGORIES:BrainMap
ORGANIZER;CN="Chi-Hyeon Yoo":MAILTO:cyoo5@mgh.harvard.edu
END:VEVENT
BEGIN:VEVENT
DTSTART;TZID=America/New_York:20230208T120000
DTEND;TZID=America/New_York:20230208T130000
DTSTAMP:20260422T122755
CREATED:20230202T162855Z
LAST-MODIFIED:20230202T162855Z
UID:13955-1675857600-1675861200@www.martinos.org
SUMMARY:BrainMap: Neuroimaging of affect and motivation: Pathways\, models\, and interventions
DESCRIPTION:Speaker \nTor D. Wager\, Department of Psychological and Brain Sciences\, Dartmouth College \nZoom Link: https://zoom.us/j/153319823 \nOr iPhone one-tap :\nUS: +13126266799\,\,153319823# or +16468769923\,\,153319823#\nOr Telephone:\nDial(for higher quality\, dial a number based on your current location):\nUS: +1 312 626 6799 or +1 646 876 9923 or +1 301 715 8592 or +1 346 248 7799 or +1 408 638 0968 or +1 669 900 6833 or +1 253 215 8782\nWebinar ID: 153 319 823\nInternational numbers available: https://zoom.us/u/adBWphwtx6 \n  \n\n 
URL:https://www.martinos.org/event/brainmap-23-02-08/
CATEGORIES:BrainMap
ORGANIZER;CN="Isil Ulic":MAILTO:iuluc@mgh.harvard.edu
END:VEVENT
BEGIN:VEVENT
DTSTART;TZID=America/New_York:20230215T120000
DTEND;TZID=America/New_York:20230215T130000
DTSTAMP:20260422T122755
CREATED:20230210T205242Z
LAST-MODIFIED:20230210T205242Z
UID:13988-1676462400-1676466000@www.martinos.org
SUMMARY:BrainMap: Pediatric Neuroimaging: Challenges and Solutions
DESCRIPTION:Speaker \nOnur Afacan\, Harvard Medical School\, Boston Children’s Hospital \nZoom Link: https://zoom.us/j/153319823 \nOr iPhone one-tap :\nUS: +13126266799\,\,153319823# or +16468769923\,\,153319823#\nOr Telephone:\nDial(for higher quality\, dial a number based on your current location):\nUS: +1 312 626 6799 or +1 646 876 9923 or +1 301 715 8592 or +1 346 248 7799 or +1 408 638 0968 or +1 669 900 6833 or +1 253 215 8782\nWebinar ID: 153 319 823\nInternational numbers available: https://zoom.us/u/adBWphwtx6 \n  \n\n 
URL:https://www.martinos.org/event/brainmap-23-02-15/
CATEGORIES:BrainMap
ORGANIZER;CN="Isil Ulic":MAILTO:iuluc@mgh.harvard.edu
END:VEVENT
BEGIN:VEVENT
DTSTART;TZID=America/New_York:20230222T120000
DTEND;TZID=America/New_York:20230222T130000
DTSTAMP:20260422T122755
CREATED:20230217T210818Z
LAST-MODIFIED:20230217T210818Z
UID:14111-1677067200-1677070800@www.martinos.org
SUMMARY:BrainMap: Dielectrography: prospects for imaging the brain using ultra-wide band microwaves
DESCRIPTION:Speaker \nDr. Leeor Alon\, Center for Biomedical Imaging\, New York University School of Medicine \nZoom Link: https://zoom.us/j/153319823 \nOr iPhone one-tap :\nUS: +13126266799\,\,153319823# or +16468769923\,\,153319823#\nOr Telephone:\nDial(for higher quality\, dial a number based on your current location):\nUS: +1 312 626 6799 or +1 646 876 9923 or +1 301 715 8592 or +1 346 248 7799 or +1 408 638 0968 or +1 669 900 6833 or +1 253 215 8782\nWebinar ID: 153 319 823\nInternational numbers available: https://zoom.us/u/adBWphwtx6 \n  \n\n 
URL:https://www.martinos.org/event/brainmap-23-02-22/
CATEGORIES:BrainMap
ORGANIZER;CN="Isil Ulic":MAILTO:iuluc@mgh.harvard.edu
END:VEVENT
END:VCALENDAR