BEGIN:VCALENDAR
VERSION:2.0
PRODID:-//Martinos Center - ECPv6.15.17//NONSGML v1.0//EN
CALSCALE:GREGORIAN
METHOD:PUBLISH
X-ORIGINAL-URL:https://www.martinos.org
X-WR-CALDESC:Events for Martinos Center
REFRESH-INTERVAL;VALUE=DURATION:PT1H
X-Robots-Tag:noindex
X-PUBLISHED-TTL:PT1H
BEGIN:VTIMEZONE
TZID:America/New_York
BEGIN:DAYLIGHT
TZOFFSETFROM:-0500
TZOFFSETTO:-0400
TZNAME:EDT
DTSTART:20220313T070000
END:DAYLIGHT
BEGIN:STANDARD
TZOFFSETFROM:-0400
TZOFFSETTO:-0500
TZNAME:EST
DTSTART:20221106T060000
END:STANDARD
BEGIN:DAYLIGHT
TZOFFSETFROM:-0500
TZOFFSETTO:-0400
TZNAME:EDT
DTSTART:20230312T070000
END:DAYLIGHT
BEGIN:STANDARD
TZOFFSETFROM:-0400
TZOFFSETTO:-0500
TZNAME:EST
DTSTART:20231105T060000
END:STANDARD
BEGIN:DAYLIGHT
TZOFFSETFROM:-0500
TZOFFSETTO:-0400
TZNAME:EDT
DTSTART:20240310T070000
END:DAYLIGHT
BEGIN:STANDARD
TZOFFSETFROM:-0400
TZOFFSETTO:-0500
TZNAME:EST
DTSTART:20241103T060000
END:STANDARD
END:VTIMEZONE
BEGIN:VEVENT
DTSTART;TZID=America/New_York:20230503T120000
DTEND;TZID=America/New_York:20230503T130000
DTSTAMP:20260422T073713
CREATED:20230501T180528Z
LAST-MODIFIED:20230501T180528Z
UID:14589-1683115200-1683118800@www.martinos.org
SUMMARY:BrainMap: Pursuit of missing genetic causality in inherited retinal degenerations
DESCRIPTION:Speaker \nMarianna Weener\, MD\, PhD Mass Eye and Ear Infirmary\, Ocular Genomics Institute\, HMS \nZoom Link: https://zoom.us/j/153319823 \nOr iPhone one-tap :\nUS: +13126266799\,\,153319823# or +16468769923\,\,153319823#\nOr Telephone:\nDial(for higher quality\, dial a number based on your current location):\nUS: +1 312 626 6799 or +1 646 876 9923 or +1 301 715 8592 or +1 346 248 7799 or +1 408 638 0968 or +1 669 900 6833 or +1 253 215 8782\nWebinar ID: 153 319 823\nInternational numbers available: https://zoom.us/u/adBWphwtx6 \n  \n\n 
URL:https://www.martinos.org/event/brainmap-2023-05-03/
CATEGORIES:BrainMap
ORGANIZER;CN="Chi-Hyeon Yoo":MAILTO:cyoo5@mgh.harvard.edu
END:VEVENT
BEGIN:VEVENT
DTSTART;TZID=America/New_York:20230510T120000
DTEND;TZID=America/New_York:20230510T130000
DTSTAMP:20260422T073713
CREATED:20230508T153534Z
LAST-MODIFIED:20230508T153534Z
UID:14625-1683720000-1683723600@www.martinos.org
SUMMARY:BrainMap: An epigenetic mechanism for differential maturation of neural systems involved in socio-emotional development
DESCRIPTION:Speaker \nJames Morris PhD\, University of Virginia \nZoom Link: https://zoom.us/j/153319823 \nOr iPhone one-tap :\nUS: +13126266799\,\,153319823# or +16468769923\,\,153319823#\nOr Telephone:\nDial(for higher quality\, dial a number based on your current location):\nUS: +1 312 626 6799 or +1 646 876 9923 or +1 301 715 8592 or +1 346 248 7799 or +1 408 638 0968 or +1 669 900 6833 or +1 253 215 8782\nWebinar ID: 153 319 823\nInternational numbers available: https://zoom.us/u/adBWphwtx6 \n  \n\n 
URL:https://www.martinos.org/event/brainmap-23-05-10/
CATEGORIES:BrainMap
ORGANIZER;CN="Chi-Hyeon Yoo":MAILTO:cyoo5@mgh.harvard.edu
END:VEVENT
BEGIN:VEVENT
DTSTART;TZID=America/New_York:20230517T120000
DTEND;TZID=America/New_York:20230517T130000
DTSTAMP:20260422T073713
CREATED:20230511T145008Z
LAST-MODIFIED:20230511T145008Z
UID:14640-1684324800-1684328400@www.martinos.org
SUMMARY:BrainMap: The role of monoamines in aging and Alzheimer's disease
DESCRIPTION:Speaker \nAnne Berry\, PhD\, Brandeis University \nZoom Link: https://zoom.us/j/153319823 \nOr iPhone one-tap :\nUS: +13126266799\,\,153319823# or +16468769923\,\,153319823#\nOr Telephone:\nDial(for higher quality\, dial a number based on your current location):\nUS: +1 312 626 6799 or +1 646 876 9923 or +1 301 715 8592 or +1 346 248 7799 or +1 408 638 0968 or +1 669 900 6833 or +1 253 215 8782\nWebinar ID: 153 319 823\nInternational numbers available: https://zoom.us/u/adBWphwtx6 \n  \n\n 
URL:https://www.martinos.org/event/brainmap-23-05-11/
CATEGORIES:BrainMap
ORGANIZER;CN="Chi-Hyeon Yoo":MAILTO:cyoo5@mgh.harvard.edu
END:VEVENT
BEGIN:VEVENT
DTSTART;TZID=America/New_York:20230524T120000
DTEND;TZID=America/New_York:20230524T130000
DTSTAMP:20260422T073713
CREATED:20230522T153828Z
LAST-MODIFIED:20230522T153828Z
UID:14658-1684929600-1684933200@www.martinos.org
SUMMARY:BrainMap: Magnetoencephalography - from university to clinic and back
DESCRIPTION:Speaker \nAsst. prof. Hanna Renvall\, MD PhD\, M.Sc\, Biomag Laboratory\, Helsinki University Hospital (HUS)\, Aalto University \nZoom Link: https://zoom.us/j/153319823 \nOr iPhone one-tap :\nUS: +13126266799\,\,153319823# or +16468769923\,\,153319823#\nOr Telephone:\nDial(for higher quality\, dial a number based on your current location):\nUS: +1 312 626 6799 or +1 646 876 9923 or +1 301 715 8592 or +1 346 248 7799 or +1 408 638 0968 or +1 669 900 6833 or +1 253 215 8782\nWebinar ID: 153 319 823\nInternational numbers available: https://zoom.us/u/adBWphwtx6 \n  \n\n 
URL:https://www.martinos.org/event/brainmap-23-05-24/
CATEGORIES:BrainMap
ORGANIZER;CN="Chi-Hyeon Yoo":MAILTO:cyoo5@mgh.harvard.edu
END:VEVENT
BEGIN:VEVENT
DTSTART;TZID=America/New_York:20230531T120000
DTEND;TZID=America/New_York:20230531T130000
DTSTAMP:20260422T073713
CREATED:20230525T155026Z
LAST-MODIFIED:20230525T155026Z
UID:14724-1685534400-1685538000@www.martinos.org
SUMMARY:BrainMap: Time-dependent diffusion MRI for microstructural imaging of the human brain and tumor
DESCRIPTION:Speaker \nDan Wu\, PhD\, Zhejiang University \nZoom Link: https://zoom.us/j/153319823 \nOr iPhone one-tap :\nUS: +13126266799\,\,153319823# or +16468769923\,\,153319823#\nOr Telephone:\nDial(for higher quality\, dial a number based on your current location):\nUS: +1 312 626 6799 or +1 646 876 9923 or +1 301 715 8592 or +1 346 248 7799 or +1 408 638 0968 or +1 669 900 6833 or +1 253 215 8782\nWebinar ID: 153 319 823\nInternational numbers available: https://zoom.us/u/adBWphwtx6 \n  \n\n 
URL:https://www.martinos.org/event/brainmap-23-05-31/
CATEGORIES:BrainMap
ORGANIZER;CN="Chi-Hyeon Yoo":MAILTO:cyoo5@mgh.harvard.edu
END:VEVENT
END:VCALENDAR