BEGIN:VCALENDAR
VERSION:2.0
PRODID:-//Martinos Center - ECPv6.15.17//NONSGML v1.0//EN
CALSCALE:GREGORIAN
METHOD:PUBLISH
X-WR-CALNAME:Martinos Center
X-ORIGINAL-URL:https://www.martinos.org
X-WR-CALDESC:Events for Martinos Center
REFRESH-INTERVAL;VALUE=DURATION:PT1H
X-Robots-Tag:noindex
X-PUBLISHED-TTL:PT1H
BEGIN:VTIMEZONE
TZID:America/New_York
BEGIN:DAYLIGHT
TZOFFSETFROM:-0500
TZOFFSETTO:-0400
TZNAME:EDT
DTSTART:20230312T070000
END:DAYLIGHT
BEGIN:STANDARD
TZOFFSETFROM:-0400
TZOFFSETTO:-0500
TZNAME:EST
DTSTART:20231105T060000
END:STANDARD
BEGIN:DAYLIGHT
TZOFFSETFROM:-0500
TZOFFSETTO:-0400
TZNAME:EDT
DTSTART:20240310T070000
END:DAYLIGHT
BEGIN:STANDARD
TZOFFSETFROM:-0400
TZOFFSETTO:-0500
TZNAME:EST
DTSTART:20241103T060000
END:STANDARD
BEGIN:DAYLIGHT
TZOFFSETFROM:-0500
TZOFFSETTO:-0400
TZNAME:EDT
DTSTART:20250309T070000
END:DAYLIGHT
BEGIN:STANDARD
TZOFFSETFROM:-0400
TZOFFSETTO:-0500
TZNAME:EST
DTSTART:20251102T060000
END:STANDARD
END:VTIMEZONE
BEGIN:VEVENT
DTSTART;TZID=America/New_York:20240305T120000
DTEND;TZID=America/New_York:20240305T130000
DTSTAMP:20260421T151857
CREATED:20240205T185405Z
LAST-MODIFIED:20240209T195150Z
UID:15747-1709640000-1709643600@www.martinos.org
SUMMARY:BrainMap: Neurophysiological brain fingerprinting
DESCRIPTION:Speaker \nProf. Sylvain Baillet\, PhD – McGill University and Montreal Neurological Institute \nZoom Link: https://partners.zoom.us/j/86220468119\n \nOr iPhone one-tap :\nUS: +13126266799\,\,153319823# or +16468769923\,\,153319823#\nOr Telephone:\nDial(for higher quality\, dial a number based on your current location):\nUS: +1 312 626 6799 or +1 646 876 9923 or +1 301 715 8592 or +1 346 248 7799 or +1 408 638 0968 or +1 669 900 6833 or +1 253 215 8782\nWebinar ID: 153 319 823\nInternational numbers available: https://zoom.us/u/adBWphwtx6 \n  \n\n 
URL:https://www.martinos.org/event/brainmap-2024-03-05/
CATEGORIES:BrainMap
ORGANIZER;CN="Abbas Sohrabpour":MAILTO:asohrabpour@mgh.harvard.edu
END:VEVENT
BEGIN:VEVENT
DTSTART;TZID=America/New_York:20240306T120000
DTEND;TZID=America/New_York:20240306T130000
DTSTAMP:20260421T151857
CREATED:20240205T185736Z
LAST-MODIFIED:20240205T185736Z
UID:15756-1709726400-1709730000@www.martinos.org
SUMMARY:BrainMap: Magnetocaloric Materials as Switchable MRI Cell Tracking Micro-Labels
DESCRIPTION:Speaker \nMladen Barbic\, PhD – Director of Research Engineering at the Tech4Health Institute of NYU School of Medicine \nZoom Link: https://zoom.us/j/153319823 \nOr iPhone one-tap :\nUS: +13126266799\,\,153319823# or +16468769923\,\,153319823#\nOr Telephone:\nDial(for higher quality\, dial a number based on your current location):\nUS: +1 312 626 6799 or +1 646 876 9923 or +1 301 715 8592 or +1 346 248 7799 or +1 408 638 0968 or +1 669 900 6833 or +1 253 215 8782\nWebinar ID: 153 319 823\nInternational numbers available: https://zoom.us/u/adBWphwtx6 \n  \n\n 
URL:https://www.martinos.org/event/brainmap-24-03-06/
CATEGORIES:BrainMap
ORGANIZER;CN="Abbas Sohrabpour":MAILTO:asohrabpour@mgh.harvard.edu
END:VEVENT
BEGIN:VEVENT
DTSTART;TZID=America/New_York:20240313T120000
DTEND;TZID=America/New_York:20240313T130000
DTSTAMP:20260421T151857
CREATED:20240214T171230Z
LAST-MODIFIED:20240214T171230Z
UID:15813-1710331200-1710334800@www.martinos.org
SUMMARY:BrainMap: Large-scale imaging of neural circuits: new frontiers in mapping the human connectome
DESCRIPTION:Speaker \nDr. Anastasia Yendiki\, PhD – Martinos Center\, MGH\, Harvard Medical University \nZoom Link: https://zoom.us/j/153319823 \nOr iPhone one-tap :\nUS: +13126266799\,\,153319823# or +16468769923\,\,153319823#\nOr Telephone:\nDial(for higher quality\, dial a number based on your current location):\nUS: +1 312 626 6799 or +1 646 876 9923 or +1 301 715 8592 or +1 346 248 7799 or +1 408 638 0968 or +1 669 900 6833 or +1 253 215 8782\nWebinar ID: 153 319 823\nInternational numbers available: https://zoom.us/u/adBWphwtx6 \n  \n\n 
URL:https://www.martinos.org/event/brainmap-24-03-13/
CATEGORIES:BrainMap
ORGANIZER;CN="Abbas Sohrabpour":MAILTO:asohrabpour@mgh.harvard.edu
END:VEVENT
BEGIN:VEVENT
DTSTART;TZID=America/New_York:20240320T120000
DTEND;TZID=America/New_York:20240320T130000
DTSTAMP:20260421T151857
CREATED:20240213T171050Z
LAST-MODIFIED:20240213T171050Z
UID:15789-1710936000-1710939600@www.martinos.org
SUMMARY:BrainMap: From the MR scanner to the Classroom: How a Translational Neurobiological Framework of Early Language and Reading Development Can Inform Educational Practice and Policy
DESCRIPTION:Speaker \nProf. Nadine Gaab\, PhD – Harvard University \nZoom Link: https://zoom.us/j/153319823 \nOr iPhone one-tap :\nUS: +13126266799\,\,153319823# or +16468769923\,\,153319823#\nOr Telephone:\nDial(for higher quality\, dial a number based on your current location):\nUS: +1 312 626 6799 or +1 646 876 9923 or +1 301 715 8592 or +1 346 248 7799 or +1 408 638 0968 or +1 669 900 6833 or +1 253 215 8782\nWebinar ID: 153 319 823\nInternational numbers available: https://zoom.us/u/adBWphwtx6 \n  \n\n 
URL:https://www.martinos.org/event/brainmap-24-03-20/
CATEGORIES:BrainMap
ORGANIZER;CN="Abbas Sohrabpour":MAILTO:asohrabpour@mgh.harvard.edu
END:VEVENT
BEGIN:VEVENT
DTSTART;TZID=America/New_York:20240326T120000
DTEND;TZID=America/New_York:20240326T130000
DTSTAMP:20260421T151857
CREATED:20240318T151402Z
LAST-MODIFIED:20240318T164455Z
UID:15891-1711454400-1711458000@www.martinos.org
SUMMARY:BrainMap: layer-fMRI methods: Achilles and the tortoise
DESCRIPTION:Speaker \nRenzo Huber\, PhD – NIMH \nZoom Link: https://zoom.us/j/153319823 \nOr iPhone one-tap :\nUS: +13126266799\,\,153319823# or +16468769923\,\,153319823#\nOr Telephone:\nDial(for higher quality\, dial a number based on your current location):\nUS: +1 312 626 6799 or +1 646 876 9923 or +1 301 715 8592 or +1 346 248 7799 or +1 408 638 0968 or +1 669 900 6833 or +1 253 215 8782\nWebinar ID: 153 319 823\nInternational numbers available: https://zoom.us/u/adBWphwtx6 \n  \n\n 
URL:https://www.martinos.org/event/brainmap-24-03-26/
CATEGORIES:BrainMap
ORGANIZER;CN="Abbas Sohrabpour":MAILTO:asohrabpour@mgh.harvard.edu
END:VEVENT
BEGIN:VEVENT
DTSTART;TZID=America/New_York:20240327T120000
DTEND;TZID=America/New_York:20240327T130000
DTSTAMP:20260421T151857
CREATED:20240305T162853Z
LAST-MODIFIED:20240305T162853Z
UID:15882-1711540800-1711544400@www.martinos.org
SUMMARY:BrainMap: Human brain development an a topological and dynamic optimization process
DESCRIPTION:Speaker \nDr. Caterina Stamoulis\, PhD – Boston’s Children Hospital\, Harvard Medical School \nZoom Link: https://zoom.us/j/153319823 \nOr iPhone one-tap :\nUS: +13126266799\,\,153319823# or +16468769923\,\,153319823#\nOr Telephone:\nDial(for higher quality\, dial a number based on your current location):\nUS: +1 312 626 6799 or +1 646 876 9923 or +1 301 715 8592 or +1 346 248 7799 or +1 408 638 0968 or +1 669 900 6833 or +1 253 215 8782\nWebinar ID: 153 319 823\nInternational numbers available: https://zoom.us/u/adBWphwtx6 \n  \n\n 
URL:https://www.martinos.org/event/brainmap-24-03-27/
CATEGORIES:BrainMap
ORGANIZER;CN="Abbas Sohrabpour":MAILTO:asohrabpour@mgh.harvard.edu
END:VEVENT
BEGIN:VEVENT
DTSTART;TZID=America/New_York:20240329T120000
DTEND;TZID=America/New_York:20240329T130000
DTSTAMP:20260421T151857
CREATED:20240205T190011Z
LAST-MODIFIED:20240205T190011Z
UID:15768-1711713600-1711717200@www.martinos.org
SUMMARY:BrainMap: Cinematic minds behind the scene: A neurophenomenological window to filmmaker's enactive cuing of expectations
DESCRIPTION:Speaker \nPia Tikka\, PhD – Tallinn University \nZoom Link: https://zoom.us/j/153319823 \nOr iPhone one-tap :\nUS: +13126266799\,\,153319823# or +16468769923\,\,153319823#\nOr Telephone:\nDial(for higher quality\, dial a number based on your current location):\nUS: +1 312 626 6799 or +1 646 876 9923 or +1 301 715 8592 or +1 346 248 7799 or +1 408 638 0968 or +1 669 900 6833 or +1 253 215 8782\nWebinar ID: 153 319 823\nInternational numbers available: https://zoom.us/u/adBWphwtx6 \n  \n\n 
URL:https://www.martinos.org/event/brainmap-24-03-29/
CATEGORIES:BrainMap
ORGANIZER;CN="Abbas Sohrabpour":MAILTO:asohrabpour@mgh.harvard.edu
END:VEVENT
END:VCALENDAR