BEGIN:VCALENDAR
VERSION:2.0
PRODID:-//Martinos Center - ECPv6.15.17//NONSGML v1.0//EN
CALSCALE:GREGORIAN
METHOD:PUBLISH
X-ORIGINAL-URL:https://www.martinos.org
X-WR-CALDESC:Events for Martinos Center
REFRESH-INTERVAL;VALUE=DURATION:PT1H
X-Robots-Tag:noindex
X-PUBLISHED-TTL:PT1H
BEGIN:VTIMEZONE
TZID:America/New_York
BEGIN:DAYLIGHT
TZOFFSETFROM:-0500
TZOFFSETTO:-0400
TZNAME:EDT
DTSTART:20190310T070000
END:DAYLIGHT
BEGIN:STANDARD
TZOFFSETFROM:-0400
TZOFFSETTO:-0500
TZNAME:EST
DTSTART:20191103T060000
END:STANDARD
BEGIN:DAYLIGHT
TZOFFSETFROM:-0500
TZOFFSETTO:-0400
TZNAME:EDT
DTSTART:20200308T070000
END:DAYLIGHT
BEGIN:STANDARD
TZOFFSETFROM:-0400
TZOFFSETTO:-0500
TZNAME:EST
DTSTART:20201101T060000
END:STANDARD
BEGIN:DAYLIGHT
TZOFFSETFROM:-0500
TZOFFSETTO:-0400
TZNAME:EDT
DTSTART:20210314T070000
END:DAYLIGHT
BEGIN:STANDARD
TZOFFSETFROM:-0400
TZOFFSETTO:-0500
TZNAME:EST
DTSTART:20211107T060000
END:STANDARD
END:VTIMEZONE
BEGIN:VEVENT
DTSTART;TZID=America/New_York:20200416T120000
DTEND;TZID=America/New_York:20200416T130000
DTSTAMP:20260424T173214
CREATED:20200413T141544Z
LAST-MODIFIED:20200413T143753Z
UID:8771-1587038400-1587042000@www.martinos.org
SUMMARY:BrainMap: From water molecules to the mind: Exploring brain function with diffusion MRI
DESCRIPTION:Denis Le Bihan\, MD\, PhD\, Founding Director\, NeuroSpin\, CEA\nNeuroSpin\, CEA-Saclay Center\, Gif-sur-Yvette\, France \nZoom link: https://zoom.us/j/153319823 \nOr iPhone one-tap :\nUS: +16468769923\,\,153319823# or +13126266799\,\,153319823# \nOr Telephone:\nDial (for higher quality\, dial a number based on your current location):\nUS: +1 646 876 9923 or +1 312 626 6799 or +1 346 248 7799 or +1 408 638 0968 or +1 669 900 6833 or +1 253 215 8782 or +1 301 715 8592\nWebinar ID: 153 319 823 \nInternational numbers available: https://zoom.us/u/adKNJ06D9D \n  \n\n  \nSpeaker \nDenis Le Bihan\, MD\, PhD\, Founding Director\, NeuroSpin\, CEA\nNeuroSpin\, CEA-Saclay Center\, Gif-sur-Yvette\, France
URL:https://www.martinos.org/event/brainmap-200416/
CATEGORIES:BrainMap
ATTACH;FMTTYPE=image/jpeg:https://www.martinos.org/wp-content/uploads/2020/04/LeBihan-Denis.jpg
END:VEVENT
END:VCALENDAR