BEGIN:VCALENDAR
VERSION:2.0
PRODID:-//Martinos Center - ECPv6.15.17//NONSGML v1.0//EN
CALSCALE:GREGORIAN
METHOD:PUBLISH
X-ORIGINAL-URL:https://www.martinos.org
X-WR-CALDESC:Events for Martinos Center
REFRESH-INTERVAL;VALUE=DURATION:PT1H
X-Robots-Tag:noindex
X-PUBLISHED-TTL:PT1H
BEGIN:VTIMEZONE
TZID:America/New_York
BEGIN:DAYLIGHT
TZOFFSETFROM:-0500
TZOFFSETTO:-0400
TZNAME:EDT
DTSTART:20190310T070000
END:DAYLIGHT
BEGIN:STANDARD
TZOFFSETFROM:-0400
TZOFFSETTO:-0500
TZNAME:EST
DTSTART:20191103T060000
END:STANDARD
BEGIN:DAYLIGHT
TZOFFSETFROM:-0500
TZOFFSETTO:-0400
TZNAME:EDT
DTSTART:20200308T070000
END:DAYLIGHT
BEGIN:STANDARD
TZOFFSETFROM:-0400
TZOFFSETTO:-0500
TZNAME:EST
DTSTART:20201101T060000
END:STANDARD
BEGIN:DAYLIGHT
TZOFFSETFROM:-0500
TZOFFSETTO:-0400
TZNAME:EDT
DTSTART:20210314T070000
END:DAYLIGHT
BEGIN:STANDARD
TZOFFSETFROM:-0400
TZOFFSETTO:-0500
TZNAME:EST
DTSTART:20211107T060000
END:STANDARD
END:VTIMEZONE
BEGIN:VEVENT
DTSTART;TZID=America/New_York:20200604T120000
DTEND;TZID=America/New_York:20200604T130000
DTSTAMP:20260424T144205
CREATED:20200601T124639Z
LAST-MODIFIED:20200601T124956Z
UID:9260-1591272000-1591275600@www.martinos.org
SUMMARY:Brain Map: White Matter Development in Children and Youth
DESCRIPTION:Catherine Lebel\, Ph.D.\, Associate Professor of Radiology at the University of Calgary \nAbstract: \nWhite matter development is critical to support proper cognitive function. Over the past two decades\, diffusion tensor imaging has provided a clearer picture of the patterns of typical white matter development across childhood and adolescence. However\, many questions remain. In this talk\, I will discuss some of our recent work to (1) provide better specificity describing white matter changes in late childhood and adolescence\, (2) detail typical white matter development in early childhood\, and (3) describe altered developmental trajectories in children and youth with prenatal alcohol exposure. \nBio: \nCatherine Lebel is an Associate Professor of Radiology at the University of Calgary and the Canada Research Chair in Pediatric Imaging. She leads the Child Brain & Mental Health Program at the Alberta Children’s Hospital Research Institute and is a member of the Hotchkiss Brain Institute. \nDr. Lebel received her PhD in Biomedical Engineering from the University of Alberta and completed postdoctoral training in Neurology and Pediatrics at the University of California\, Los Angeles. Her research uses MRI to study how brain structure and function change with age in typical children and those with neurodevelopmental disorders\, including fetal alcohol spectrum disorder and learning disabilities. She also examines how brain structure and function are related to cognitive\, behavioural and environmental factors\, including the prenatal environment. \nZoom Link: https://zoom.us/j/153319823 \nOr iPhone one-tap :\nUS: +13126266799\,\,153319823# or +16468769923\,\,153319823#\nOr Telephone:\nDial(for higher quality\, dial a number based on your current location):\nUS: +1 312 626 6799 or +1 646 876 9923 or +1 301 715 8592 or +1 346 248 7799 or +1 408 638 0968 or +1 669 900 6833 or +1 253 215 8782\nWebinar ID: 153 319 823\nInternational numbers available: https://zoom.us/u/adBWphwtx6 \n  \n\n  \nSpeaker \nCatherine Lebel\, Ph.D.\, Associate Professor of Radiology at the University of Calgary
URL:https://www.martinos.org/event/brainmap-200604/
CATEGORIES:BrainMap
END:VEVENT
END:VCALENDAR