BEGIN:VCALENDAR
VERSION:2.0
PRODID:-//Martinos Center - ECPv6.15.17//NONSGML v1.0//EN
CALSCALE:GREGORIAN
METHOD:PUBLISH
X-ORIGINAL-URL:https://www.martinos.org
X-WR-CALDESC:Events for Martinos Center
REFRESH-INTERVAL;VALUE=DURATION:PT1H
X-Robots-Tag:noindex
X-PUBLISHED-TTL:PT1H
BEGIN:VTIMEZONE
TZID:America/New_York
BEGIN:DAYLIGHT
TZOFFSETFROM:-0500
TZOFFSETTO:-0400
TZNAME:EDT
DTSTART:20210314T070000
END:DAYLIGHT
BEGIN:STANDARD
TZOFFSETFROM:-0400
TZOFFSETTO:-0500
TZNAME:EST
DTSTART:20211107T060000
END:STANDARD
BEGIN:DAYLIGHT
TZOFFSETFROM:-0500
TZOFFSETTO:-0400
TZNAME:EDT
DTSTART:20220313T070000
END:DAYLIGHT
BEGIN:STANDARD
TZOFFSETFROM:-0400
TZOFFSETTO:-0500
TZNAME:EST
DTSTART:20221106T060000
END:STANDARD
BEGIN:DAYLIGHT
TZOFFSETFROM:-0500
TZOFFSETTO:-0400
TZNAME:EDT
DTSTART:20230312T070000
END:DAYLIGHT
BEGIN:STANDARD
TZOFFSETFROM:-0400
TZOFFSETTO:-0500
TZNAME:EST
DTSTART:20231105T060000
END:STANDARD
BEGIN:DAYLIGHT
TZOFFSETFROM:-0500
TZOFFSETTO:-0400
TZNAME:EDT
DTSTART:20240310T070000
END:DAYLIGHT
BEGIN:STANDARD
TZOFFSETFROM:-0400
TZOFFSETTO:-0500
TZNAME:EST
DTSTART:20241103T060000
END:STANDARD
END:VTIMEZONE
BEGIN:VEVENT
DTSTART;TZID=America/New_York:20220223T120000
DTEND;TZID=America/New_York:20220223T130000
DTSTAMP:20260423T181420
CREATED:20220217T172514Z
LAST-MODIFIED:20220217T172514Z
UID:12209-1645617600-1645621200@www.martinos.org
SUMMARY:BrainMap: Measuring Blood-brain Barrier Function with MRI - New Methods and Old
DESCRIPTION:Speaker \nGeoff Parker\, Professor of Healthcare Engineering\, Imaging and Enterprise\, University College London \nZoom Link: https://zoom.us/j/153319823 \nOr iPhone one-tap :\nUS: +13126266799\,\,153319823# or +16468769923\,\,153319823#\nOr Telephone:\nDial(for higher quality\, dial a number based on your current location):\nUS: +1 312 626 6799 or +1 646 876 9923 or +1 301 715 8592 or +1 346 248 7799 or +1 408 638 0968 or +1 669 900 6833 or +1 253 215 8782\nWebinar ID: 153 319 823\nInternational numbers available: https://zoom.us/u/adBWphwtx6 \n  \n\n 
URL:https://www.martinos.org/event/brainmap-2022-02-23/
CATEGORIES:BrainMap
END:VEVENT
BEGIN:VEVENT
DTSTART;TZID=America/New_York:20220302T120000
DTEND;TZID=America/New_York:20220302T130000
DTSTAMP:20260423T181420
CREATED:20220228T183823Z
LAST-MODIFIED:20220228T183823Z
UID:12278-1646222400-1646226000@www.martinos.org
SUMMARY:BrainMap: Structural brain changes following pediatric brain injury
DESCRIPTION:Speaker \nDr. Catherine Lebel\, University of Calgary \nZoom Link: https://zoom.us/j/153319823 \nOr iPhone one-tap :\nUS: +13126266799\,\,153319823# or +16468769923\,\,153319823#\nOr Telephone:\nDial(for higher quality\, dial a number based on your current location):\nUS: +1 312 626 6799 or +1 646 876 9923 or +1 301 715 8592 or +1 346 248 7799 or +1 408 638 0968 or +1 669 900 6833 or +1 253 215 8782\nWebinar ID: 153 319 823\nInternational numbers available: https://zoom.us/u/adBWphwtx6 \n  \n\n 
URL:https://www.martinos.org/event/brainmap-22-03-02/
CATEGORIES:BrainMap
END:VEVENT
BEGIN:VEVENT
DTSTART;TZID=America/New_York:20220309T120000
DTEND;TZID=America/New_York:20220309T130000
DTSTAMP:20260423T181420
CREATED:20220307T160141Z
LAST-MODIFIED:20220307T190138Z
UID:12293-1646827200-1646830800@www.martinos.org
SUMMARY:BrainMap: Cell Tracking: A Noninvasive Assay for Understanding Cancer Cells in the Brain
DESCRIPTION:Speaker \nDr. Paula Foster\, Western University \nZoom Link: https://zoom.us/j/153319823 \nOr iPhone one-tap :\nUS: +13126266799\,\,153319823# or +16468769923\,\,153319823#\nOr Telephone:\nDial(for higher quality\, dial a number based on your current location):\nUS: +1 312 626 6799 or +1 646 876 9923 or +1 301 715 8592 or +1 346 248 7799 or +1 408 638 0968 or +1 669 900 6833 or +1 253 215 8782\nWebinar ID: 153 319 823\nInternational numbers available: https://zoom.us/u/adBWphwtx6 \n  \n\n 
URL:https://www.martinos.org/event/brainmap-22-03-09/
CATEGORIES:BrainMap
END:VEVENT
BEGIN:VEVENT
DTSTART;TZID=America/New_York:20220316T120000
DTEND;TZID=America/New_York:20220316T130000
DTSTAMP:20260423T181420
CREATED:20220309T194845Z
LAST-MODIFIED:20220309T194845Z
UID:12302-1647432000-1647435600@www.martinos.org
SUMMARY:BrainMap: Building a multi-dimensional functional network atlas based on intrinsic spatiotemporal organization of the brain
DESCRIPTION:Speaker \nJian (Andrew) Li\, Athinoula A. Martinos Center for Biomedical Imaging\, Massachusetts General Hospital\, Harvard Medical School \nZoom Link: https://zoom.us/j/153319823 \nOr iPhone one-tap :\nUS: +13126266799\,\,153319823# or +16468769923\,\,153319823#\nOr Telephone:\nDial(for higher quality\, dial a number based on your current location):\nUS: +1 312 626 6799 or +1 646 876 9923 or +1 301 715 8592 or +1 346 248 7799 or +1 408 638 0968 or +1 669 900 6833 or +1 253 215 8782\nWebinar ID: 153 319 823\nInternational numbers available: https://zoom.us/u/adBWphwtx6 \n  \n\n 
URL:https://www.martinos.org/event/brainmap-22-16-03/
CATEGORIES:BrainMap
END:VEVENT
BEGIN:VEVENT
DTSTART;TZID=America/New_York:20220323T120000
DTEND;TZID=America/New_York:20220323T130000
DTSTAMP:20260423T181420
CREATED:20220316T144534Z
LAST-MODIFIED:20220316T144534Z
UID:12332-1648036800-1648040400@www.martinos.org
SUMMARY:BrainMap: Imaging Neuroinflammation and Metabolic Alterations using Hyperpolarized 13C MRI and PET imaging
DESCRIPTION:Speaker \nDr. Caroline Guglielmetti\, University of California San Francisco \nZoom Link: https://zoom.us/j/153319823 \nOr iPhone one-tap :\nUS: +13126266799\,\,153319823# or +16468769923\,\,153319823#\nOr Telephone:\nDial(for higher quality\, dial a number based on your current location):\nUS: +1 312 626 6799 or +1 646 876 9923 or +1 301 715 8592 or +1 346 248 7799 or +1 408 638 0968 or +1 669 900 6833 or +1 253 215 8782\nWebinar ID: 153 319 823\nInternational numbers available: https://zoom.us/u/adBWphwtx6 \n  \n\n 
URL:https://www.martinos.org/event/brainmap-22-03-23/
CATEGORIES:BrainMap
END:VEVENT
BEGIN:VEVENT
DTSTART;TZID=America/New_York:20220330T120000
DTEND;TZID=America/New_York:20220330T130000
DTSTAMP:20260423T181420
CREATED:20220325T171023Z
LAST-MODIFIED:20220325T171023Z
UID:12377-1648641600-1648645200@www.martinos.org
SUMMARY:BrainMap: The Gray Zone of Perception
DESCRIPTION:Speaker \nProf. Dr. Arno Villringer\, Max Planck Institute for Human Cognitive and Brain Sciences\, Leipzig\nUniversity Hospital\, Berlin School of Mind and Brain\, Mind & Brain Institute\, Berlin \nZoom Link: https://zoom.us/j/153319823 \nOr iPhone one-tap :\nUS: +13126266799\,\,153319823# or +16468769923\,\,153319823#\nOr Telephone:\nDial(for higher quality\, dial a number based on your current location):\nUS: +1 312 626 6799 or +1 646 876 9923 or +1 301 715 8592 or +1 346 248 7799 or +1 408 638 0968 or +1 669 900 6833 or +1 253 215 8782\nWebinar ID: 153 319 823\nInternational numbers available: https://zoom.us/u/adBWphwtx6 \n  \n\n 
URL:https://www.martinos.org/event/brainmap-2022-03-30/
CATEGORIES:BrainMap
END:VEVENT
BEGIN:VEVENT
DTSTART;TZID=America/New_York:20220406T120000
DTEND;TZID=America/New_York:20220406T130000
DTSTAMP:20260423T181420
CREATED:20220401T142845Z
LAST-MODIFIED:20220401T142845Z
UID:12396-1649246400-1649250000@www.martinos.org
SUMMARY:BrainMap: Neural States and Traits in the Listening Brain
DESCRIPTION:Speaker \nJonas Obleser\, University of Lübeck\, Germany \nZoom Link: https://zoom.us/j/153319823 \nOr iPhone one-tap :\nUS: +13126266799\,\,153319823# or +16468769923\,\,153319823#\nOr Telephone:\nDial(for higher quality\, dial a number based on your current location):\nUS: +1 312 626 6799 or +1 646 876 9923 or +1 301 715 8592 or +1 346 248 7799 or +1 408 638 0968 or +1 669 900 6833 or +1 253 215 8782\nWebinar ID: 153 319 823\nInternational numbers available: https://zoom.us/u/adBWphwtx6 \n  \n\n 
URL:https://www.martinos.org/event/brainmap-2022-04-01/
CATEGORIES:BrainMap
END:VEVENT
BEGIN:VEVENT
DTSTART;TZID=America/New_York:20220413T120000
DTEND;TZID=America/New_York:20220413T130000
DTSTAMP:20260423T181420
CREATED:20220407T143844Z
LAST-MODIFIED:20220407T143844Z
UID:12459-1649851200-1649854800@www.martinos.org
SUMMARY:BrainMap: Predictive Mechanisms in Perception
DESCRIPTION:Speaker \nBiyu Jade He\, PhD.\, New York University Grossman School of Medicine \nZoom Link: https://zoom.us/j/153319823 \nOr iPhone one-tap :\nUS: +13126266799\,\,153319823# or +16468769923\,\,153319823#\nOr Telephone:\nDial(for higher quality\, dial a number based on your current location):\nUS: +1 312 626 6799 or +1 646 876 9923 or +1 301 715 8592 or +1 346 248 7799 or +1 408 638 0968 or +1 669 900 6833 or +1 253 215 8782\nWebinar ID: 153 319 823\nInternational numbers available: https://zoom.us/u/adBWphwtx6 \n  \n\n 
URL:https://www.martinos.org/event/brainmap-22-04-13/
CATEGORIES:BrainMap
END:VEVENT
BEGIN:VEVENT
DTSTART;TZID=America/New_York:20220420T120000
DTEND;TZID=America/New_York:20220420T130000
DTSTAMP:20260423T181420
CREATED:20220418T174749Z
LAST-MODIFIED:20220418T174749Z
UID:12504-1650456000-1650459600@www.martinos.org
SUMMARY:BrainMap: New MRI Platforms for Cell Tracking and Tissue Engineering Applications
DESCRIPTION:Speaker \nDr. Hai-Ling Cheng\, University of Toronto \nZoom Link: https://zoom.us/j/153319823 \nOr iPhone one-tap :\nUS: +13126266799\,\,153319823# or +16468769923\,\,153319823#\nOr Telephone:\nDial(for higher quality\, dial a number based on your current location):\nUS: +1 312 626 6799 or +1 646 876 9923 or +1 301 715 8592 or +1 346 248 7799 or +1 408 638 0968 or +1 669 900 6833 or +1 253 215 8782\nWebinar ID: 153 319 823\nInternational numbers available: https://zoom.us/u/adBWphwtx6 \n  \n\n 
URL:https://www.martinos.org/event/brainmap-22-04-20/
CATEGORIES:BrainMap
END:VEVENT
BEGIN:VEVENT
DTSTART;TZID=America/New_York:20220427T120000
DTEND;TZID=America/New_York:20220427T130000
DTSTAMP:20260423T181420
CREATED:20220421T153344Z
LAST-MODIFIED:20220421T153429Z
UID:12510-1651060800-1651064400@www.martinos.org
SUMMARY:BrainMap: Seizures and inflammation in autoimmune encephalitis: from bench to bedside
DESCRIPTION:Speaker \nOlga Taraschenko\, MD\, PhD\, Department of Neurological Sciences\, University of Nebraska Medical Center \n \nZoom Link: https://zoom.us/j/153319823 \nOr iPhone one-tap :\nUS: +13126266799\,\,153319823# or +16468769923\,\,153319823#\nOr Telephone:\nDial(for higher quality\, dial a number based on your current location):\nUS: +1 312 626 6799 or +1 646 876 9923 or +1 301 715 8592 or +1 346 248 7799 or +1 408 638 0968 or +1 669 900 6833 or +1 253 215 8782\nWebinar ID: 153 319 823\nInternational numbers available: https://zoom.us/u/adBWphwtx6 \n  \n\n 
URL:https://www.martinos.org/event/brainmap-22-04-27/
CATEGORIES:BrainMap
END:VEVENT
BEGIN:VEVENT
DTSTART;TZID=America/New_York:20220504T120000
DTEND;TZID=America/New_York:20220504T130000
DTSTAMP:20260423T181420
CREATED:20220425T170527Z
LAST-MODIFIED:20220425T170527Z
UID:12525-1651665600-1651669200@www.martinos.org
SUMMARY:BrainMap: Fast and motion-robust brain MRI
DESCRIPTION:Speaker \nStefan Skare\, PhD\, Karolinska Institutet and Karolinska University Hospital\, Sweden \nZoom Link: https://zoom.us/j/153319823 \nOr iPhone one-tap :\nUS: +13126266799\,\,153319823# or +16468769923\,\,153319823#\nOr Telephone:\nDial(for higher quality\, dial a number based on your current location):\nUS: +1 312 626 6799 or +1 646 876 9923 or +1 301 715 8592 or +1 346 248 7799 or +1 408 638 0968 or +1 669 900 6833 or +1 253 215 8782\nWebinar ID: 153 319 823\nInternational numbers available: https://zoom.us/u/adBWphwtx6 \n  \n\n 
URL:https://www.martinos.org/event/brainmap-22-05-04/
CATEGORIES:BrainMap
END:VEVENT
BEGIN:VEVENT
DTSTART;TZID=America/New_York:20220518T120000
DTEND;TZID=America/New_York:20220518T130000
DTSTAMP:20260423T181420
CREATED:20220512T154159Z
LAST-MODIFIED:20220512T154159Z
UID:12588-1652875200-1652878800@www.martinos.org
SUMMARY:BrainMap: Towards a dense wearable whole-head OPM-MEG system
DESCRIPTION:Speaker \nSvenja Knappe\, PhD\, University of Colorado Boulder \nZoom Link: https://zoom.us/j/153319823 \nOr iPhone one-tap :\nUS: +13126266799\,\,153319823# or +16468769923\,\,153319823#\nOr Telephone:\nDial(for higher quality\, dial a number based on your current location):\nUS: +1 312 626 6799 or +1 646 876 9923 or +1 301 715 8592 or +1 346 248 7799 or +1 408 638 0968 or +1 669 900 6833 or +1 253 215 8782\nWebinar ID: 153 319 823\nInternational numbers available: https://zoom.us/u/adBWphwtx6 \n  \n\n 
URL:https://www.martinos.org/event/brainmap-22-05-18/
CATEGORIES:BrainMap
END:VEVENT
BEGIN:VEVENT
DTSTART;TZID=America/New_York:20220525T120000
DTEND;TZID=America/New_York:20220525T130000
DTSTAMP:20260423T181420
CREATED:20220523T155432Z
LAST-MODIFIED:20220523T155432Z
UID:12666-1653480000-1653483600@www.martinos.org
SUMMARY:BrainMap: Magnetic Resonance Fingerprinting: An Emerging Tool for Neuroimaging
DESCRIPTION:Speaker \nDr. Nicole Seiberlich\, University of Michigan in Ann Arbor \nZoom Link: https://zoom.us/j/153319823 \nOr iPhone one-tap :\nUS: +13126266799\,\,153319823# or +16468769923\,\,153319823#\nOr Telephone:\nDial(for higher quality\, dial a number based on your current location):\nUS: +1 312 626 6799 or +1 646 876 9923 or +1 301 715 8592 or +1 346 248 7799 or +1 408 638 0968 or +1 669 900 6833 or +1 253 215 8782\nWebinar ID: 153 319 823\nInternational numbers available: https://zoom.us/u/adBWphwtx6 \n  \n\n 
URL:https://www.martinos.org/event/brainmap-22-05-25/
CATEGORIES:BrainMap
END:VEVENT
BEGIN:VEVENT
DTSTART;TZID=America/New_York:20220601T120000
DTEND;TZID=America/New_York:20220601T130000
DTSTAMP:20260423T181420
CREATED:20220527T143548Z
LAST-MODIFIED:20220527T143548Z
UID:12672-1654084800-1654088400@www.martinos.org
SUMMARY:BrainMap: Eliciting the Role of Cerebrovascular Involvement in Alzheimer’s Disease using Non-Invasive Quantitative Vascular Markers from MRI
DESCRIPTION:Speaker \nLeonardo A. Rivera-Rivera\, PhD\, University of Wisconsin – Madison \nZoom Link: https://zoom.us/j/153319823 \nOr iPhone one-tap :\nUS: +13126266799\,\,153319823# or +16468769923\,\,153319823#\nOr Telephone:\nDial(for higher quality\, dial a number based on your current location):\nUS: +1 312 626 6799 or +1 646 876 9923 or +1 301 715 8592 or +1 346 248 7799 or +1 408 638 0968 or +1 669 900 6833 or +1 253 215 8782\nWebinar ID: 153 319 823\nInternational numbers available: https://zoom.us/u/adBWphwtx6 \n  \n\n 
URL:https://www.martinos.org/event/brainmap-2022-06-01/
CATEGORIES:BrainMap
END:VEVENT
BEGIN:VEVENT
DTSTART;TZID=America/New_York:20220608T120000
DTEND;TZID=America/New_York:20220608T130000
DTSTAMP:20260423T181420
CREATED:20220602T204957Z
LAST-MODIFIED:20220602T204957Z
UID:12681-1654689600-1654693200@www.martinos.org
SUMMARY:BrainMap: Tools and Approaches for Accessible Population Neuroimaging
DESCRIPTION:Speaker \nUdunna Anazodo\, PhD\, Neurology and Neurosurgery\, Montreal Neurological Institute McGill University \nZoom Link: https://zoom.us/j/153319823 \nOr iPhone one-tap :\nUS: +13126266799\,\,153319823# or +16468769923\,\,153319823#\nOr Telephone:\nDial(for higher quality\, dial a number based on your current location):\nUS: +1 312 626 6799 or +1 646 876 9923 or +1 301 715 8592 or +1 346 248 7799 or +1 408 638 0968 or +1 669 900 6833 or +1 253 215 8782\nWebinar ID: 153 319 823\nInternational numbers available: https://zoom.us/u/adBWphwtx6 \n  \n\n 
URL:https://www.martinos.org/event/brainmap-22-06-08/
CATEGORIES:BrainMap
END:VEVENT
BEGIN:VEVENT
DTSTART;TZID=America/New_York:20220615T120000
DTEND;TZID=America/New_York:20220615T130000
DTSTAMP:20260423T181420
CREATED:20220609T210357Z
LAST-MODIFIED:20220609T210357Z
UID:12702-1655294400-1655298000@www.martinos.org
SUMMARY:BrainMap: Biomolecular Ultrasound for Noninvasive Imaging and Control of Cellular Function
DESCRIPTION:Speaker \nMikhail G. Shapiro\, PhD\, California Institute of Technology \nZoom Link: https://zoom.us/j/153319823 \nOr iPhone one-tap :\nUS: +13126266799\,\,153319823# or +16468769923\,\,153319823#\nOr Telephone:\nDial(for higher quality\, dial a number based on your current location):\nUS: +1 312 626 6799 or +1 646 876 9923 or +1 301 715 8592 or +1 346 248 7799 or +1 408 638 0968 or +1 669 900 6833 or +1 253 215 8782\nWebinar ID: 153 319 823\nInternational numbers available: https://zoom.us/u/adBWphwtx6 \n  \n\n 
URL:https://www.martinos.org/event/brainmap-22-15-06/
CATEGORIES:BrainMap
END:VEVENT
BEGIN:VEVENT
DTSTART;TZID=America/New_York:20220629T120000
DTEND;TZID=America/New_York:20220629T130000
DTSTAMP:20260423T181420
CREATED:20220623T192833Z
LAST-MODIFIED:20220623T192833Z
UID:12777-1656504000-1656507600@www.martinos.org
SUMMARY:BrainMap: B0 Magnetic Field Control for Shimming and MRI with the Dynamic Multi-Coil Technique (DYNAMITE)
DESCRIPTION:Speaker \nChristoph Juchem\, PhD\, Columbia University \nZoom Link: https://zoom.us/j/153319823 \nOr iPhone one-tap :\nUS: +13126266799\,\,153319823# or +16468769923\,\,153319823#\nOr Telephone:\nDial(for higher quality\, dial a number based on your current location):\nUS: +1 312 626 6799 or +1 646 876 9923 or +1 301 715 8592 or +1 346 248 7799 or +1 408 638 0968 or +1 669 900 6833 or +1 253 215 8782\nWebinar ID: 153 319 823\nInternational numbers available: https://zoom.us/u/adBWphwtx6 \n  \n\n 
URL:https://www.martinos.org/event/brainmap-22-06-29/
CATEGORIES:BrainMap
END:VEVENT
BEGIN:VEVENT
DTSTART;TZID=America/New_York:20220706T120000
DTEND;TZID=America/New_York:20220706T130000
DTSTAMP:20260423T181420
CREATED:20220627T140957Z
LAST-MODIFIED:20220627T140957Z
UID:12783-1657108800-1657112400@www.martinos.org
SUMMARY:BrainMap: Beyond what the eye can see: re-imagining precision medicine using transport-based morphometry
DESCRIPTION:Speaker \nShinjini Kundu\, MD\, PhD\, Johns Hopkins Hospital \nZoom Link: https://zoom.us/j/153319823 \nOr iPhone one-tap :\nUS: +13126266799\,\,153319823# or +16468769923\,\,153319823#\nOr Telephone:\nDial(for higher quality\, dial a number based on your current location):\nUS: +1 312 626 6799 or +1 646 876 9923 or +1 301 715 8592 or +1 346 248 7799 or +1 408 638 0968 or +1 669 900 6833 or +1 253 215 8782\nWebinar ID: 153 319 823\nInternational numbers available: https://zoom.us/u/adBWphwtx6 \n  \n\n 
URL:https://www.martinos.org/event/brainmap-22-07-06/
CATEGORIES:BrainMap
END:VEVENT
BEGIN:VEVENT
DTSTART;TZID=America/New_York:20220907T120000
DTEND;TZID=America/New_York:20220907T130000
DTSTAMP:20260423T181420
CREATED:20220830T204032Z
LAST-MODIFIED:20220830T204032Z
UID:12963-1662552000-1662555600@www.martinos.org
SUMMARY:BrainMap: Advancing Physiological MRI in Brain Tumour Imaging Diagnostics
DESCRIPTION:Speaker \nEsther Warnert\, PhD\, Department of Radiology & Nuclear Medicine\, Erasmus MC\, Rotterdam\, The Netherlands \nZoom Link: https://zoom.us/j/153319823 \nOr iPhone one-tap :\nUS: +13126266799\,\,153319823# or +16468769923\,\,153319823#\nOr Telephone:\nDial(for higher quality\, dial a number based on your current location):\nUS: +1 312 626 6799 or +1 646 876 9923 or +1 301 715 8592 or +1 346 248 7799 or +1 408 638 0968 or +1 669 900 6833 or +1 253 215 8782\nWebinar ID: 153 319 823\nInternational numbers available: https://zoom.us/u/adBWphwtx6 \n  \n\n 
URL:https://www.martinos.org/event/brainmap-22-09-07/
CATEGORIES:BrainMap
END:VEVENT
BEGIN:VEVENT
DTSTART;TZID=America/New_York:20220914T120000
DTEND;TZID=America/New_York:20220914T130000
DTSTAMP:20260423T181420
CREATED:20220909T145838Z
LAST-MODIFIED:20220909T145838Z
UID:12974-1663156800-1663160400@www.martinos.org
SUMMARY:BrainMap: Correlative HiP-CT of the human brain to bridge histology and radiology
DESCRIPTION:Speaker \nClaire Walsh\, Department for Mechanical Engineering\, University College London \nZoom Link: https://zoom.us/j/153319823 \nOr iPhone one-tap :\nUS: +13126266799\,\,153319823# or +16468769923\,\,153319823#\nOr Telephone:\nDial(for higher quality\, dial a number based on your current location):\nUS: +1 312 626 6799 or +1 646 876 9923 or +1 301 715 8592 or +1 346 248 7799 or +1 408 638 0968 or +1 669 900 6833 or +1 253 215 8782\nWebinar ID: 153 319 823\nInternational numbers available: https://zoom.us/u/adBWphwtx6 \n  \n\n 
URL:https://www.martinos.org/event/brainmap-22-09-14/
CATEGORIES:BrainMap
END:VEVENT
BEGIN:VEVENT
DTSTART;TZID=America/New_York:20220921T120000
DTEND;TZID=America/New_York:20220921T130000
DTSTAMP:20260423T181420
CREATED:20220915T204522Z
LAST-MODIFIED:20220915T204701Z
UID:13058-1663761600-1663765200@www.martinos.org
SUMMARY:BrainMap: Imaging the Dopamine System of Tobacco Smokers
DESCRIPTION:Speaker \nYasmin Zakiniaeiz\, Ph.D.\, Psychiatry Department\, Yale University \nZoom Link: https://zoom.us/j/153319823 \nOr iPhone one-tap :\nUS: +13126266799\,\,153319823# or +16468769923\,\,153319823#\nOr Telephone:\nDial(for higher quality\, dial a number based on your current location):\nUS: +1 312 626 6799 or +1 646 876 9923 or +1 301 715 8592 or +1 346 248 7799 or +1 408 638 0968 or +1 669 900 6833 or +1 253 215 8782\nWebinar ID: 153 319 823\nInternational numbers available: https://zoom.us/u/adBWphwtx6 \n  \n\n 
URL:https://www.martinos.org/event/brainmap-22-09-21/
CATEGORIES:BrainMap
END:VEVENT
BEGIN:VEVENT
DTSTART;TZID=America/New_York:20220928T120000
DTEND;TZID=America/New_York:20220928T130000
DTSTAMP:20260423T181420
CREATED:20220921T213211Z
LAST-MODIFIED:20220921T213211Z
UID:13070-1664366400-1664370000@www.martinos.org
SUMMARY:BrainMap: Using Resting State fMRI to look at everything but Neuronal Activation
DESCRIPTION:Speaker \nBlaise Frederick Ph.D. Harvard Medical School\, McLean Hospital \nZoom Link: https://zoom.us/j/153319823 \nOr iPhone one-tap :\nUS: +13126266799\,\,153319823# or +16468769923\,\,153319823#\nOr Telephone:\nDial(for higher quality\, dial a number based on your current location):\nUS: +1 312 626 6799 or +1 646 876 9923 or +1 301 715 8592 or +1 346 248 7799 or +1 408 638 0968 or +1 669 900 6833 or +1 253 215 8782\nWebinar ID: 153 319 823\nInternational numbers available: https://zoom.us/u/adBWphwtx6 \n  \n\n 
URL:https://www.martinos.org/event/brainmap-22-09-28/
CATEGORIES:BrainMap
END:VEVENT
BEGIN:VEVENT
DTSTART;TZID=America/New_York:20221005T120000
DTEND;TZID=America/New_York:20221005T130000
DTSTAMP:20260423T181420
CREATED:20220930T145705Z
LAST-MODIFIED:20220930T145705Z
UID:13097-1664971200-1664974800@www.martinos.org
SUMMARY:BrainMap: Home Base Clinical Programs and Research – overview
DESCRIPTION:Speaker \nDr. Kaloyan Tanev\, MGH \nZoom Link: https://zoom.us/j/153319823 \nOr iPhone one-tap :\nUS: +13126266799\,\,153319823# or +16468769923\,\,153319823#\nOr Telephone:\nDial(for higher quality\, dial a number based on your current location):\nUS: +1 312 626 6799 or +1 646 876 9923 or +1 301 715 8592 or +1 346 248 7799 or +1 408 638 0968 or +1 669 900 6833 or +1 253 215 8782\nWebinar ID: 153 319 823\nInternational numbers available: https://zoom.us/u/adBWphwtx6 \n  \n\n 
URL:https://www.martinos.org/event/brainmap-22-10-05/
CATEGORIES:BrainMap
END:VEVENT
BEGIN:VEVENT
DTSTART;TZID=America/New_York:20221012T120000
DTEND;TZID=America/New_York:20221012T130000
DTSTAMP:20260423T181420
CREATED:20221006T185355Z
LAST-MODIFIED:20221006T194611Z
UID:13151-1665576000-1665579600@www.martinos.org
SUMMARY:BrainMap: Parkinson’s disease motor severity associated with synaptic density and dopamine transporter PET
DESCRIPTION:Speaker \nDavid Matuskey\, M.D.\, Department of Radiology and Biomedical Imaging\, Yale University \nZoom Link: https://zoom.us/j/153319823 \nOr iPhone one-tap :\nUS: +13126266799\,\,153319823# or +16468769923\,\,153319823#\nOr Telephone:\nDial(for higher quality\, dial a number based on your current location):\nUS: +1 312 626 6799 or +1 646 876 9923 or +1 301 715 8592 or +1 346 248 7799 or +1 408 638 0968 or +1 669 900 6833 or +1 253 215 8782\nWebinar ID: 153 319 823\nInternational numbers available: https://zoom.us/u/adBWphwtx6 \n  \n\n 
URL:https://www.martinos.org/event/brainmap-22-10-12/
CATEGORIES:BrainMap
END:VEVENT
BEGIN:VEVENT
DTSTART;TZID=America/New_York:20221019T120000
DTEND;TZID=America/New_York:20221019T130000
DTSTAMP:20260423T181420
CREATED:20221014T222242Z
LAST-MODIFIED:20221017T143121Z
UID:13181-1666180800-1666184400@www.martinos.org
SUMMARY:BrainMap: The promise and challenge of harnessing collateral Information from Medical Images using AI
DESCRIPTION:Speaker \nJudy Wawira Gichoya\, Emory University School of Medicine \nZoom Link: https://zoom.us/j/153319823 \nOr iPhone one-tap :\nUS: +13126266799\,\,153319823# or +16468769923\,\,153319823#\nOr Telephone:\nDial(for higher quality\, dial a number based on your current location):\nUS: +1 312 626 6799 or +1 646 876 9923 or +1 301 715 8592 or +1 346 248 7799 or +1 408 638 0968 or +1 669 900 6833 or +1 253 215 8782\nWebinar ID: 153 319 823\nInternational numbers available: https://zoom.us/u/adBWphwtx6 \n  \n\n 
URL:https://www.martinos.org/event/brainmap-22-10-19/
CATEGORIES:BrainMap
END:VEVENT
BEGIN:VEVENT
DTSTART;TZID=America/New_York:20221102T120000
DTEND;TZID=America/New_York:20221102T130000
DTSTAMP:20260423T181420
CREATED:20221026T201313Z
LAST-MODIFIED:20221026T201313Z
UID:13190-1667390400-1667394000@www.martinos.org
SUMMARY:BrainMap: Imaging Cerebral Oxygen Metabolism
DESCRIPTION:Speaker \nHongyu An\, PhD\, Washington University in St. Louis \nZoom Link: https://zoom.us/j/153319823 \nOr iPhone one-tap :\nUS: +13126266799\,\,153319823# or +16468769923\,\,153319823#\nOr Telephone:\nDial(for higher quality\, dial a number based on your current location):\nUS: +1 312 626 6799 or +1 646 876 9923 or +1 301 715 8592 or +1 346 248 7799 or +1 408 638 0968 or +1 669 900 6833 or +1 253 215 8782\nWebinar ID: 153 319 823\nInternational numbers available: https://zoom.us/u/adBWphwtx6 \n  \n\n 
URL:https://www.martinos.org/event/brainmap-22-11-02/
CATEGORIES:BrainMap
END:VEVENT
BEGIN:VEVENT
DTSTART;TZID=America/New_York:20221130T120000
DTEND;TZID=America/New_York:20221130T130000
DTSTAMP:20260423T181420
CREATED:20221128T160939Z
LAST-MODIFIED:20221128T161653Z
UID:13472-1669809600-1669813200@www.martinos.org
SUMMARY:BrainMap: Electromagnetic Source Imaging of Oscillatory Brain Networks
DESCRIPTION:Speaker \nAbbas Sohrabpour\, Athinoula A. Martinos Center\, MGH\, HMS \nZoom Link: https://zoom.us/j/153319823 \nOr iPhone one-tap :\nUS: +13126266799\,\,153319823# or +16468769923\,\,153319823#\nOr Telephone:\nDial(for higher quality\, dial a number based on your current location):\nUS: +1 312 626 6799 or +1 646 876 9923 or +1 301 715 8592 or +1 346 248 7799 or +1 408 638 0968 or +1 669 900 6833 or +1 253 215 8782\nWebinar ID: 153 319 823\nInternational numbers available: https://zoom.us/u/adBWphwtx6 \n  \n\n 
URL:https://www.martinos.org/event/brainmap-22-11-30/
CATEGORIES:BrainMap
END:VEVENT
BEGIN:VEVENT
DTSTART;TZID=America/New_York:20221207T120000
DTEND;TZID=America/New_York:20221207T130000
DTSTAMP:20260423T181420
CREATED:20221201T200821Z
LAST-MODIFIED:20221201T200821Z
UID:13493-1670414400-1670418000@www.martinos.org
SUMMARY:BrainMap: What's New in Medical Image Analysis with MATLAB
DESCRIPTION:Speaker \nMathworks \nZoom Link: https://zoom.us/j/153319823 \nOr iPhone one-tap :\nUS: +13126266799\,\,153319823# or +16468769923\,\,153319823#\nOr Telephone:\nDial(for higher quality\, dial a number based on your current location):\nUS: +1 312 626 6799 or +1 646 876 9923 or +1 301 715 8592 or +1 346 248 7799 or +1 408 638 0968 or +1 669 900 6833 or +1 253 215 8782\nWebinar ID: 153 319 823\nInternational numbers available: https://zoom.us/u/adBWphwtx6 \n  \n\n 
URL:https://www.martinos.org/event/brainmap-22-12-07/
CATEGORIES:BrainMap
END:VEVENT
BEGIN:VEVENT
DTSTART;TZID=America/New_York:20221214T120000
DTEND;TZID=America/New_York:20221214T130000
DTSTAMP:20260423T181420
CREATED:20221208T175933Z
LAST-MODIFIED:20221208T175933Z
UID:13553-1671019200-1671022800@www.martinos.org
SUMMARY:BrainMap: Cerebrovascular and inflamm-ageing link to dementia
DESCRIPTION:Speaker \nAxel Montagne\, Dementia Research Institute\, University of Edinburgh \nZoom Link: https://zoom.us/j/153319823 \nOr iPhone one-tap :\nUS: +13126266799\,\,153319823# or +16468769923\,\,153319823#\nOr Telephone:\nDial(for higher quality\, dial a number based on your current location):\nUS: +1 312 626 6799 or +1 646 876 9923 or +1 301 715 8592 or +1 346 248 7799 or +1 408 638 0968 or +1 669 900 6833 or +1 253 215 8782\nWebinar ID: 153 319 823\nInternational numbers available: https://zoom.us/u/adBWphwtx6 \n  \n\n 
URL:https://www.martinos.org/event/brainmap-22-12-14/
CATEGORIES:BrainMap
END:VEVENT
BEGIN:VEVENT
DTSTART;TZID=America/New_York:20230104T120000
DTEND;TZID=America/New_York:20230104T130000
DTSTAMP:20260423T181420
CREATED:20221227T160503Z
LAST-MODIFIED:20221227T160503Z
UID:13583-1672833600-1672837200@www.martinos.org
SUMMARY:BrainMap: Mapping fetal brain development in-utero
DESCRIPTION:Speaker \nAli Gholipour\, Associate Professor of Radiology at Harvard Medical School \nZoom Link: https://zoom.us/j/153319823 \nOr iPhone one-tap :\nUS: +13126266799\,\,153319823# or +16468769923\,\,153319823#\nOr Telephone:\nDial(for higher quality\, dial a number based on your current location):\nUS: +1 312 626 6799 or +1 646 876 9923 or +1 301 715 8592 or +1 346 248 7799 or +1 408 638 0968 or +1 669 900 6833 or +1 253 215 8782\nWebinar ID: 153 319 823\nInternational numbers available: https://zoom.us/u/adBWphwtx6 \n  \n\n 
URL:https://www.martinos.org/event/brainmap-23-01-04/
CATEGORIES:BrainMap
END:VEVENT
END:VCALENDAR