BEGIN:VCALENDAR
VERSION:2.0
PRODID:-//Martinos Center - ECPv6.15.17//NONSGML v1.0//EN
CALSCALE:GREGORIAN
METHOD:PUBLISH
X-ORIGINAL-URL:https://www.martinos.org
X-WR-CALDESC:Events for Martinos Center
REFRESH-INTERVAL;VALUE=DURATION:PT1H
X-Robots-Tag:noindex
X-PUBLISHED-TTL:PT1H
BEGIN:VTIMEZONE
TZID:America/New_York
BEGIN:DAYLIGHT
TZOFFSETFROM:-0500
TZOFFSETTO:-0400
TZNAME:EDT
DTSTART:20190310T070000
END:DAYLIGHT
BEGIN:STANDARD
TZOFFSETFROM:-0400
TZOFFSETTO:-0500
TZNAME:EST
DTSTART:20191103T060000
END:STANDARD
BEGIN:DAYLIGHT
TZOFFSETFROM:-0500
TZOFFSETTO:-0400
TZNAME:EDT
DTSTART:20200308T070000
END:DAYLIGHT
BEGIN:STANDARD
TZOFFSETFROM:-0400
TZOFFSETTO:-0500
TZNAME:EST
DTSTART:20201101T060000
END:STANDARD
BEGIN:DAYLIGHT
TZOFFSETFROM:-0500
TZOFFSETTO:-0400
TZNAME:EDT
DTSTART:20210314T070000
END:DAYLIGHT
BEGIN:STANDARD
TZOFFSETFROM:-0400
TZOFFSETTO:-0500
TZNAME:EST
DTSTART:20211107T060000
END:STANDARD
END:VTIMEZONE
BEGIN:VEVENT
DTSTART;TZID=America/New_York:20201021T120000
DTEND;TZID=America/New_York:20201021T130000
DTSTAMP:20260423T160904
CREATED:20201009T153401Z
LAST-MODIFIED:20201016T142914Z
UID:9905-1603281600-1603285200@www.martinos.org
SUMMARY:Big Brothers Big Sisters Virtual Lunch & Learn!
DESCRIPTION:Empower the Potential of Children\n\n\n–\nFor more than 70 years\, Big Brothers Big Sisters (BBBS) of Eastern Massachusetts has partnered with under­-resourced families to provide their kids with transformational\, one-to-one professionally supported relationships with caring adult mentors\, so that their children reach their full potential. We accomplish this mission with Diversity\, Equity\, and Inclusion as core values. We believe that we maximize our impact and truly thrive as an organization when perspectives are diverse\, our culture is inclusive\, and our practices model the equity we want to see in the world.\n\n\n–\nIt is our belief that one of the solutions is to bring people together that are different from each other. With the nature of our matching and with the recognition that our kids and Bigs come from different places\, we are helping everyone to come together. Not only have children’s lives been upended by the COVID-19 pandemic\, as a country we are facing the unavoidable reality of the tragedy of racism. This inequity directly impacts all of the kids we serve\, many of whom are children of color. As adults\, how we respond and support children in our community will impact how they will view themselves\, and their potential in the world. Our kids need you to be part of the solution and that is why our mission is more urgent than ever.\n\n\n–\nJoin us on Wednesday\, October 21st for a virtual Lunch & Learn to learn more about the different programs available and the benefits of volunteering. You will also have an opportunity to hear current MGH employees discuss their time as Bigs\, the experiences they’ve had while involved\, and how they balance volunteering with their personal and professional lives.\n\n\n\n\n–\nEvent Details:\nWhat: Big Brothers Big Sisters Virtual Lunch & Learn!\nWhen: Wednesday\, October 21\, 2020\, 12:00-1:ooPM\nWhere: Zoom; Please RSVP here\nWhy: To engage additional MGH employees as mentors for children in the local community\n\n\n\n\n–\nIf you have any questions about the event\, please reach out to Michael Wright of Big Brothers Big Sisters at mwright@emassbigs.org
URL:https://www.martinos.org/event/bbbs-lunch-102120/
CATEGORIES:Diversity Equity and Inclusion
END:VEVENT
END:VCALENDAR