BEGIN:VCALENDAR
VERSION:2.0
PRODID:-//Martinos Center - ECPv6.15.17//NONSGML v1.0//EN
CALSCALE:GREGORIAN
METHOD:PUBLISH
X-ORIGINAL-URL:https://www.martinos.org
X-WR-CALDESC:Events for Martinos Center
REFRESH-INTERVAL;VALUE=DURATION:PT1H
X-Robots-Tag:noindex
X-PUBLISHED-TTL:PT1H
BEGIN:VTIMEZONE
TZID:America/New_York
BEGIN:DAYLIGHT
TZOFFSETFROM:-0500
TZOFFSETTO:-0400
TZNAME:EDT
DTSTART:20190310T070000
END:DAYLIGHT
BEGIN:STANDARD
TZOFFSETFROM:-0400
TZOFFSETTO:-0500
TZNAME:EST
DTSTART:20191103T060000
END:STANDARD
BEGIN:DAYLIGHT
TZOFFSETFROM:-0500
TZOFFSETTO:-0400
TZNAME:EDT
DTSTART:20200308T070000
END:DAYLIGHT
BEGIN:STANDARD
TZOFFSETFROM:-0400
TZOFFSETTO:-0500
TZNAME:EST
DTSTART:20201101T060000
END:STANDARD
BEGIN:DAYLIGHT
TZOFFSETFROM:-0500
TZOFFSETTO:-0400
TZNAME:EDT
DTSTART:20210314T070000
END:DAYLIGHT
BEGIN:STANDARD
TZOFFSETFROM:-0400
TZOFFSETTO:-0500
TZNAME:EST
DTSTART:20211107T060000
END:STANDARD
END:VTIMEZONE
BEGIN:VEVENT
DTSTART;TZID=America/New_York:20201029T170000
DTEND;TZID=America/New_York:20201029T180000
DTSTAMP:20260423T142705
CREATED:20201023T140601Z
LAST-MODIFIED:20201023T140739Z
UID:10064-1603990800-1603994400@www.martinos.org
SUMMARY:Women in Science Book Club
DESCRIPTION:Book: On Earth We’re Briefly Gorgeous | A Novel by Ocean Vuong \n \nWe’re reading award-winning poet Ocean Vuong’s debut novel “On Earth We’re Briefly\nGorgeous.” This innovative\, lyrical novel moves from the narrator’s experience as a\nVietnamese refugee to the blossoming of his queer identity\, while weaving in the\noften brutal wartime history that shaped the lives of his family\, and in turn\, his\nown. Visceral yet also tender\, the book deals with the bonds of family\, the\nrealities of generational trauma\, and questions of belonging and American identity. \nIt was awarded the 2019 New England Book Award for Fiction and named a best book of\nthe year by Booklist\, Kirkus Reviews\, TIME\, The Washington Post\, The New Yorker\,\nNPR\, Vanity Fair\, and others. \nAs a reminder\, all are welcome to join the discussion even if you have not finished\nthe book! \n  \nZoom link: https://zoom.us/j/93543970389
URL:https://www.martinos.org/event/wisbookclub10-29-20/
CATEGORIES:Science on Tap
END:VEVENT
END:VCALENDAR