BEGIN:VCALENDAR
VERSION:2.0
PRODID:-//Martinos Center - ECPv6.15.17//NONSGML v1.0//EN
CALSCALE:GREGORIAN
METHOD:PUBLISH
X-ORIGINAL-URL:https://www.martinos.org
X-WR-CALDESC:Events for Martinos Center
REFRESH-INTERVAL;VALUE=DURATION:PT1H
X-Robots-Tag:noindex
X-PUBLISHED-TTL:PT1H
BEGIN:VTIMEZONE
TZID:America/New_York
BEGIN:DAYLIGHT
TZOFFSETFROM:-0500
TZOFFSETTO:-0400
TZNAME:EDT
DTSTART:20190310T070000
END:DAYLIGHT
BEGIN:STANDARD
TZOFFSETFROM:-0400
TZOFFSETTO:-0500
TZNAME:EST
DTSTART:20191103T060000
END:STANDARD
BEGIN:DAYLIGHT
TZOFFSETFROM:-0500
TZOFFSETTO:-0400
TZNAME:EDT
DTSTART:20200308T070000
END:DAYLIGHT
BEGIN:STANDARD
TZOFFSETFROM:-0400
TZOFFSETTO:-0500
TZNAME:EST
DTSTART:20201101T060000
END:STANDARD
BEGIN:DAYLIGHT
TZOFFSETFROM:-0500
TZOFFSETTO:-0400
TZNAME:EDT
DTSTART:20210314T070000
END:DAYLIGHT
BEGIN:STANDARD
TZOFFSETFROM:-0400
TZOFFSETTO:-0500
TZNAME:EST
DTSTART:20211107T060000
END:STANDARD
END:VTIMEZONE
BEGIN:VEVENT
DTSTART;TZID=America/New_York:20200911T160000
DTEND;TZID=America/New_York:20200911T170000
DTSTAMP:20260423T173646
CREATED:20200619T160851Z
LAST-MODIFIED:20200908T163432Z
UID:9386-1599840000-1599843600@www.martinos.org
SUMMARY:Science on Tap: Women in Science Fall Series + Structure + Elections | Viv Siless
DESCRIPTION:=Zoom link: https://zoom.us/j/658603416 \nGrab your own snacks and drinks and join the talk at 4:00pm. \nShare your “BYOB Science on Tap” selfies using @MGHMartinos or #MGHMartinos and let’s celebrate our Fridays together! \n  \nIf you’d like to tell the Martinos Community about your work in 10 mins\, email: \nMaaike van den Boomen \nPatricia Cirillo \nJohn Samuelsson
URL:https://www.martinos.org/event/science-on-tap-0911/
CATEGORIES:Science on Tap
ORGANIZER;CN="John Samuelsson":MAILTO:johnsam@mit.edu
END:VEVENT
END:VCALENDAR