BEGIN:VCALENDAR
VERSION:2.0
PRODID:-//Martinos Center - ECPv6.15.17//NONSGML v1.0//EN
CALSCALE:GREGORIAN
METHOD:PUBLISH
X-ORIGINAL-URL:https://www.martinos.org
X-WR-CALDESC:Events for Martinos Center
REFRESH-INTERVAL;VALUE=DURATION:PT1H
X-Robots-Tag:noindex
X-PUBLISHED-TTL:PT1H
BEGIN:VTIMEZONE
TZID:America/New_York
BEGIN:DAYLIGHT
TZOFFSETFROM:-0500
TZOFFSETTO:-0400
TZNAME:EDT
DTSTART:20190310T070000
END:DAYLIGHT
BEGIN:STANDARD
TZOFFSETFROM:-0400
TZOFFSETTO:-0500
TZNAME:EST
DTSTART:20191103T060000
END:STANDARD
BEGIN:DAYLIGHT
TZOFFSETFROM:-0500
TZOFFSETTO:-0400
TZNAME:EDT
DTSTART:20200308T070000
END:DAYLIGHT
BEGIN:STANDARD
TZOFFSETFROM:-0400
TZOFFSETTO:-0500
TZNAME:EST
DTSTART:20201101T060000
END:STANDARD
BEGIN:DAYLIGHT
TZOFFSETFROM:-0500
TZOFFSETTO:-0400
TZNAME:EDT
DTSTART:20210314T070000
END:DAYLIGHT
BEGIN:STANDARD
TZOFFSETFROM:-0400
TZOFFSETTO:-0500
TZNAME:EST
DTSTART:20211107T060000
END:STANDARD
END:VTIMEZONE
BEGIN:VEVENT
DTSTART;TZID=America/New_York:20200515T190000
DTEND;TZID=America/New_York:20200515T210000
DTSTAMP:20260421T074330
CREATED:20200513T164341Z
LAST-MODIFIED:20200513T165657Z
UID:9158-1589569200-1589576400@www.martinos.org
SUMMARY:Women in Science Movie Night: Secrets of the Surface: The Mathematical Vision of Maryam Mirzakhani
DESCRIPTION:Filmed in Canada\, Iran\, and the United States\, Secrets of the Surface: The Mathematical Vision of Maryam Mirzakhani examines the life and mathematical work of Maryam Mirzakhani\, an Iranian immigrant to the United States who became a superstar in her field. In 2014\, she was both the first woman and the first Iranian to be honored by mathematics’ highest prize\, the Fields Medal. \nMirzakhani’s contributions are explained in the film by leading mathematicians and illustrated by animated sequences. Her mathematical colleagues from around the world\, as well as former teachers\, classmates\, and students in Iran today\, convey the deep impact of her achievements. The path of her education\, success on Iran’s Math Olympiad team\, and her brilliant work\, make Mirzakhani an ideal role model for girls looking toward careers in science and mathematics. \nhttp://www.zalafilms.com/secrets/synopsis.html \nWe will watch the film together through zoom\, however\, please register yourself previously here for free: \nhttps://may12.womeninmaths.org/screening-secrets \nZoom link: https://zoom.us/j/97702717663
URL:https://www.martinos.org/event/women-in-science-200515/
CATEGORIES:Women in Science
END:VEVENT
END:VCALENDAR