BEGIN:VCALENDAR
VERSION:2.0
PRODID:-//Martinos Center - ECPv6.15.17//NONSGML v1.0//EN
CALSCALE:GREGORIAN
METHOD:PUBLISH
X-WR-CALNAME:Martinos Center
X-ORIGINAL-URL:https://www.martinos.org
X-WR-CALDESC:Events for Martinos Center
REFRESH-INTERVAL;VALUE=DURATION:PT1H
X-Robots-Tag:noindex
X-PUBLISHED-TTL:PT1H
BEGIN:VTIMEZONE
TZID:America/New_York
BEGIN:DAYLIGHT
TZOFFSETFROM:-0500
TZOFFSETTO:-0400
TZNAME:EDT
DTSTART:20200308T070000
END:DAYLIGHT
BEGIN:STANDARD
TZOFFSETFROM:-0400
TZOFFSETTO:-0500
TZNAME:EST
DTSTART:20201101T060000
END:STANDARD
BEGIN:DAYLIGHT
TZOFFSETFROM:-0500
TZOFFSETTO:-0400
TZNAME:EDT
DTSTART:20210314T070000
END:DAYLIGHT
BEGIN:STANDARD
TZOFFSETFROM:-0400
TZOFFSETTO:-0500
TZNAME:EST
DTSTART:20211107T060000
END:STANDARD
BEGIN:DAYLIGHT
TZOFFSETFROM:-0500
TZOFFSETTO:-0400
TZNAME:EDT
DTSTART:20220313T070000
END:DAYLIGHT
BEGIN:STANDARD
TZOFFSETFROM:-0400
TZOFFSETTO:-0500
TZNAME:EST
DTSTART:20221106T060000
END:STANDARD
END:VTIMEZONE
BEGIN:VEVENT
DTSTART;TZID=America/New_York:20210430T120000
DTEND;TZID=America/New_York:20210430T130000
DTSTAMP:20260420T133932
CREATED:20210325T211303Z
LAST-MODIFIED:20210409T171814Z
UID:10714-1619784000-1619787600@www.martinos.org
SUMMARY:Women in Science: Panel & Discussion on Health Disparities and Community Engagement for Inclusive Research and Recruitment
DESCRIPTION:A panel of speakers around the topic of health disparities\, improved inclusion in research studies\, and community outreach. \nWe hope this panel will help to educate the research community on how to improve equity in access to and involvement in health research\, to work towards better addressing needs of under-represented communities\, and to identify ways in which the research community can better contribute best to the communities of the greater Boston area. The target audience of this panel will be research coordinators\, post-doctoral students\, and research faculty at the Martinos Center for Biomedical Imaging in Charlestown. \nhttps://zoom.us/j/93350071330 \nLearn more about the Women in Science group and its many activities here.
URL:https://www.martinos.org/event/wis04-30-21/
CATEGORIES:Women in Science
END:VEVENT
END:VCALENDAR