BEGIN:VCALENDAR
VERSION:2.0
PRODID:-//Martinos Center - ECPv6.15.17//NONSGML v1.0//EN
CALSCALE:GREGORIAN
METHOD:PUBLISH
X-ORIGINAL-URL:https://www.martinos.org
X-WR-CALDESC:Events for Martinos Center
REFRESH-INTERVAL;VALUE=DURATION:PT1H
X-Robots-Tag:noindex
X-PUBLISHED-TTL:PT1H
BEGIN:VTIMEZONE
TZID:America/New_York
BEGIN:DAYLIGHT
TZOFFSETFROM:-0500
TZOFFSETTO:-0400
TZNAME:EDT
DTSTART:20200308T070000
END:DAYLIGHT
BEGIN:STANDARD
TZOFFSETFROM:-0400
TZOFFSETTO:-0500
TZNAME:EST
DTSTART:20201101T060000
END:STANDARD
BEGIN:DAYLIGHT
TZOFFSETFROM:-0500
TZOFFSETTO:-0400
TZNAME:EDT
DTSTART:20210314T070000
END:DAYLIGHT
BEGIN:STANDARD
TZOFFSETFROM:-0400
TZOFFSETTO:-0500
TZNAME:EST
DTSTART:20211107T060000
END:STANDARD
BEGIN:DAYLIGHT
TZOFFSETFROM:-0500
TZOFFSETTO:-0400
TZNAME:EDT
DTSTART:20220313T070000
END:DAYLIGHT
BEGIN:STANDARD
TZOFFSETFROM:-0400
TZOFFSETTO:-0500
TZNAME:EST
DTSTART:20221106T060000
END:STANDARD
END:VTIMEZONE
BEGIN:VEVENT
DTSTART;TZID=America/New_York:20211111T120000
DTEND;TZID=America/New_York:20211111T130000
DTSTAMP:20260420T024345
CREATED:20211101T151835Z
LAST-MODIFIED:20211101T151835Z
UID:11749-1636632000-1636635600@www.martinos.org
SUMMARY:Women in Science: Lunch with Allies
DESCRIPTION:Discussion on how to be an Ally. Open to everyone!! \n  \nhttps://zoom.us/j/94703722506 \nLearn more about the Women in Science group and its many activities here.
URL:https://www.martinos.org/event/women-in-science-2021-11-11/
CATEGORIES:Women in Science
END:VEVENT
END:VCALENDAR