BEGIN:VCALENDAR
VERSION:2.0
PRODID:-//Martinos Center - ECPv6.15.17//NONSGML v1.0//EN
CALSCALE:GREGORIAN
METHOD:PUBLISH
X-WR-CALNAME:Martinos Center
X-ORIGINAL-URL:https://www.martinos.org
X-WR-CALDESC:Events for Martinos Center
REFRESH-INTERVAL;VALUE=DURATION:PT1H
X-Robots-Tag:noindex
X-PUBLISHED-TTL:PT1H
BEGIN:VTIMEZONE
TZID:America/New_York
BEGIN:DAYLIGHT
TZOFFSETFROM:-0500
TZOFFSETTO:-0400
TZNAME:EDT
DTSTART:20200308T070000
END:DAYLIGHT
BEGIN:STANDARD
TZOFFSETFROM:-0400
TZOFFSETTO:-0500
TZNAME:EST
DTSTART:20201101T060000
END:STANDARD
BEGIN:DAYLIGHT
TZOFFSETFROM:-0500
TZOFFSETTO:-0400
TZNAME:EDT
DTSTART:20210314T070000
END:DAYLIGHT
BEGIN:STANDARD
TZOFFSETFROM:-0400
TZOFFSETTO:-0500
TZNAME:EST
DTSTART:20211107T060000
END:STANDARD
BEGIN:DAYLIGHT
TZOFFSETFROM:-0500
TZOFFSETTO:-0400
TZNAME:EDT
DTSTART:20220313T070000
END:DAYLIGHT
BEGIN:STANDARD
TZOFFSETFROM:-0400
TZOFFSETTO:-0500
TZNAME:EST
DTSTART:20221106T060000
END:STANDARD
END:VTIMEZONE
BEGIN:VEVENT
DTSTART;TZID=America/New_York:20210329T160000
DTEND;TZID=America/New_York:20210329T170000
DTSTAMP:20260420T151258
CREATED:20210323T212117Z
LAST-MODIFIED:20210323T212117Z
UID:10705-1617033600-1617037200@www.martinos.org
SUMMARY:Women in Science: Procrastination\, Perfectionism and Burnout seminar
DESCRIPTION:Women in Science will be hosting Maryam Khodadoust\, PsyD on Monday\, March\n29th to talk about the connections between procrastination\, perfectionism\,\nand burnout\, as well as practical strategies to combat them. Heal from\nburnout to become more effective in your work and balanced in your life. \nDr. Khodadoust is a clinical psychologist at MIT Student Mental Health and\nCounseling Center whose primary passion is helping young adults navigate\ntheir intersecting identities. She provides continuing and comprehensive\nmental and behavioral health care for individuals and families; consultation\nto agencies and communities; training\, education and supervision; and\nresearch-based practice. She also hosts a variety of workshops in the Greater\nBoston area addressing topics of imposter syndrome\, procrastination\,\nperfectionism and burnout\, cross-cultural communication and resiliency. \nhttps://harvard.zoom.us/j/99795563503 \nDr. Maryam Khodadoust\, PsyD
URL:https://www.martinos.org/event/wis03-29-21/
CATEGORIES:Women in Science
END:VEVENT
END:VCALENDAR