BEGIN:VCALENDAR
VERSION:2.0
PRODID:-//Martinos Center - ECPv6.15.17//NONSGML v1.0//EN
CALSCALE:GREGORIAN
METHOD:PUBLISH
X-WR-CALNAME:Martinos Center
X-ORIGINAL-URL:https://www.martinos.org
X-WR-CALDESC:Events for Martinos Center
REFRESH-INTERVAL;VALUE=DURATION:PT1H
X-Robots-Tag:noindex
X-PUBLISHED-TTL:PT1H
BEGIN:VTIMEZONE
TZID:America/New_York
BEGIN:DAYLIGHT
TZOFFSETFROM:-0500
TZOFFSETTO:-0400
TZNAME:EDT
DTSTART:20210314T070000
END:DAYLIGHT
BEGIN:STANDARD
TZOFFSETFROM:-0400
TZOFFSETTO:-0500
TZNAME:EST
DTSTART:20211107T060000
END:STANDARD
BEGIN:DAYLIGHT
TZOFFSETFROM:-0500
TZOFFSETTO:-0400
TZNAME:EDT
DTSTART:20220313T070000
END:DAYLIGHT
BEGIN:STANDARD
TZOFFSETFROM:-0400
TZOFFSETTO:-0500
TZNAME:EST
DTSTART:20221106T060000
END:STANDARD
BEGIN:DAYLIGHT
TZOFFSETFROM:-0500
TZOFFSETTO:-0400
TZNAME:EDT
DTSTART:20230312T070000
END:DAYLIGHT
BEGIN:STANDARD
TZOFFSETFROM:-0400
TZOFFSETTO:-0500
TZNAME:EST
DTSTART:20231105T060000
END:STANDARD
END:VTIMEZONE
BEGIN:VEVENT
DTSTART;TZID=America/New_York:20220923T150000
DTEND;TZID=America/New_York:20220923T170000
DTSTAMP:20260419T112346
CREATED:20220912T185552Z
LAST-MODIFIED:20220912T185552Z
UID:12980-1663945200-1663952400@www.martinos.org
SUMMARY:Women in Science IN-PERSON Event: Martinos Center Summer Symposium
DESCRIPTION:Women in Science is planning to cap off this summer with our 2nd Martinos Center Summer Symposium (MCSS)\, which will take place on Friday afternoon\, September 23rd\, IN-PERSON! All members of the Martinos community are invited to attend. We will have keynote speakers\, poster session\, high school power pitches and lightning talks from WiS members. \n  \nLearn more about the Women in Science group and its many activities here.
URL:https://www.martinos.org/event/women-in-science-22-09-23/
CATEGORIES:Women in Science
END:VEVENT
END:VCALENDAR