BEGIN:VCALENDAR
VERSION:2.0
PRODID:-//Martinos Center - ECPv6.15.17//NONSGML v1.0//EN
CALSCALE:GREGORIAN
METHOD:PUBLISH
X-WR-CALNAME:Martinos Center
X-ORIGINAL-URL:https://www.martinos.org
X-WR-CALDESC:Events for Martinos Center
REFRESH-INTERVAL;VALUE=DURATION:PT1H
X-Robots-Tag:noindex
X-PUBLISHED-TTL:PT1H
BEGIN:VTIMEZONE
TZID:America/New_York
BEGIN:DAYLIGHT
TZOFFSETFROM:-0500
TZOFFSETTO:-0400
TZNAME:EDT
DTSTART:20190310T070000
END:DAYLIGHT
BEGIN:STANDARD
TZOFFSETFROM:-0400
TZOFFSETTO:-0500
TZNAME:EST
DTSTART:20191103T060000
END:STANDARD
BEGIN:DAYLIGHT
TZOFFSETFROM:-0500
TZOFFSETTO:-0400
TZNAME:EDT
DTSTART:20200308T070000
END:DAYLIGHT
BEGIN:STANDARD
TZOFFSETFROM:-0400
TZOFFSETTO:-0500
TZNAME:EST
DTSTART:20201101T060000
END:STANDARD
BEGIN:DAYLIGHT
TZOFFSETFROM:-0500
TZOFFSETTO:-0400
TZNAME:EDT
DTSTART:20210314T070000
END:DAYLIGHT
BEGIN:STANDARD
TZOFFSETFROM:-0400
TZOFFSETTO:-0500
TZNAME:EST
DTSTART:20211107T060000
END:STANDARD
END:VTIMEZONE
BEGIN:VEVENT
DTSTART;TZID=America/New_York:20200521T120000
DTEND;TZID=America/New_York:20200521T130000
DTSTAMP:20260422T114943
CREATED:20200518T184932Z
LAST-MODIFIED:20200518T184932Z
UID:9191-1590062400-1590066000@www.martinos.org
SUMMARY:BrainMap: Multi-partner consortium to expand dementia research in Latin America (ReDLat)
DESCRIPTION:Agustin Ibanez\, Director of the Cognitive Neuroscience Center (CNC)\, Universidad de San Andres\, Argentina \nZoom Link: https://zoom.us/j/153319823 \nOr iPhone one-tap :\nUS: +13126266799\,\,153319823# or +16468769923\,\,153319823#\nOr Telephone:\nDial(for higher quality\, dial a number based on your current location):\nUS: +1 312 626 6799 or +1 646 876 9923 or +1 301 715 8592 or +1 346 248 7799 or +1 408 638 0968 or +1 669 900 6833 or +1 253 215 8782\nWebinar ID: 153 319 823\nInternational numbers available: https://zoom.us/u/adBWphwtx6
URL:https://www.martinos.org/event/brainmap-200521/
CATEGORIES:BrainMap
END:VEVENT
BEGIN:VEVENT
DTSTART;TZID=America/New_York:20200515T190000
DTEND;TZID=America/New_York:20200515T210000
DTSTAMP:20260422T114943
CREATED:20200513T164341Z
LAST-MODIFIED:20200513T165657Z
UID:9158-1589569200-1589576400@www.martinos.org
SUMMARY:Women in Science Movie Night: Secrets of the Surface: The Mathematical Vision of Maryam Mirzakhani
DESCRIPTION:Filmed in Canada\, Iran\, and the United States\, Secrets of the Surface: The Mathematical Vision of Maryam Mirzakhani examines the life and mathematical work of Maryam Mirzakhani\, an Iranian immigrant to the United States who became a superstar in her field. In 2014\, she was both the first woman and the first Iranian to be honored by mathematics’ highest prize\, the Fields Medal. \nMirzakhani’s contributions are explained in the film by leading mathematicians and illustrated by animated sequences. Her mathematical colleagues from around the world\, as well as former teachers\, classmates\, and students in Iran today\, convey the deep impact of her achievements. The path of her education\, success on Iran’s Math Olympiad team\, and her brilliant work\, make Mirzakhani an ideal role model for girls looking toward careers in science and mathematics. \nhttp://www.zalafilms.com/secrets/synopsis.html \nWe will watch the film together through zoom\, however\, please register yourself previously here for free: \nhttps://may12.womeninmaths.org/screening-secrets \nZoom link: https://zoom.us/j/97702717663
URL:https://www.martinos.org/event/women-in-science-200515/
CATEGORIES:Women in Science
END:VEVENT
BEGIN:VEVENT
DTSTART;TZID=America/New_York:20200515T160000
DTEND;TZID=America/New_York:20200515T163000
DTSTAMP:20260422T114943
CREATED:20200511T154520Z
LAST-MODIFIED:20200511T154520Z
UID:9146-1589558400-1589560200@www.martinos.org
SUMMARY:Science on Tap: Imaging Fast Haemodynamic Responses with High Spatiotemporal Resolution fMRI
DESCRIPTION:Daniel Gomez \nZoom link: https://zoom.us/j/658603416 \nGrab your own snacks and drinks and join the talk at 4:00pm. \nShare your “BYOB Science on Tap” selfies using @MGHMartinos or #MGHMartinos and let’s celebrate our Fridays together! \n  \nIf you’d like to tell the Martinos Community about your work in 10 mins\, email: \nMaaike van den Boomen \nPatricia Cirillo \nJohn Samuelsson
URL:https://www.martinos.org/event/science-on-tap-200515/
CATEGORIES:Science on Tap
ORGANIZER;CN="Maaike van den Boomen":MAILTO:mvandenboomen@mgh.harvard.edu
END:VEVENT
BEGIN:VEVENT
DTSTART;TZID=America/New_York:20200514T120000
DTEND;TZID=America/New_York:20200514T130000
DTSTAMP:20260422T114943
CREATED:20200511T154019Z
LAST-MODIFIED:20200511T154019Z
UID:9140-1589457600-1589461200@www.martinos.org
SUMMARY:BrainMap: Characterizing Brain Microstructure using Magnetic Resonance Imaging: Toward in-vivo Histology
DESCRIPTION:Nikolaus Weiskopf \nDepartment of Neurophysics\, Max Planck Institute for Human Cognitive and Brain Sciences\, Leipzig\, Germany \nZoom Link: https://zoom.us/j/153319823 \nOr iPhone one-tap :\nUS: +13126266799\,\,153319823# or +16468769923\,\,153319823#\nOr Telephone:\nDial(for higher quality\, dial a number based on your current location):\nUS: +1 312 626 6799 or +1 646 876 9923 or +1 301 715 8592 or +1 346 248 7799 or +1 408 638 0968 or +1 669 900 6833 or +1 253 215 8782\nWebinar ID: 153 319 823\nInternational numbers available: https://zoom.us/u/adBWphwtx6 \n  \n\n  \nSpeaker \nNikolaus Weiskopf
URL:https://www.martinos.org/event/brainmap-200514/
CATEGORIES:BrainMap
END:VEVENT
BEGIN:VEVENT
DTSTART;TZID=America/New_York:20200513T170000
DTEND;TZID=America/New_York:20200513T180000
DTSTAMP:20260422T114943
CREATED:20200513T165109Z
LAST-MODIFIED:20200513T165548Z
UID:9164-1589389200-1589392800@www.martinos.org
SUMMARY:Women in Science Book Club
DESCRIPTION:Book club – discussion with the authors\, Linda Babcok and Sara Laschever \nBook: Women Don’t Ask: The High Cost of Avoiding Negotiation and Positive Strategies for change | Linda Babcock and Sara Laschever. \nYou can access the book online through your Harvard id here: \nhttps://muse-jhu-edu.ezp-prod1.hul.harvard.edu/book/36217/. \nZoom link: https://zoom.us/j/97706981903
URL:https://www.martinos.org/event/science-on-tap-200515-2-2/
CATEGORIES:Science on Tap
END:VEVENT
BEGIN:VEVENT
DTSTART;TZID=America/New_York:20200508T160000
DTEND;TZID=America/New_York:20200508T163000
DTSTAMP:20260422T114943
CREATED:20200505T141751Z
LAST-MODIFIED:20200505T143015Z
UID:9116-1588953600-1588955400@www.martinos.org
SUMMARY:Science on Tap: Monitoring MEG Measurements with MNE Scan
DESCRIPTION:Lorenz Esch\, PhD candidate TU Ilmenau \nZoom link: https://zoom.us/j/658603416 \nGrab your own snacks and drinks and join the talk at 4:00pm. \nShare your “BYOB Science on Tap” selfies using @MGHMartinos or #MGHMartinos and let’s celebrate our Fridays together! \n  \nIf you’d like to tell the Martinos Community about your work in 10 mins\, email: \nMaaike van den Boomen       mvandenboomen@mgh.harvard.edu \nPatricia Cirillo                        pcirillo1@mgh.harvard.edu \nJohn Samuelsson                   johnsam@mit.edu
URL:https://www.martinos.org/event/science-on-tap-200508/
CATEGORIES:Science on Tap
ORGANIZER;CN="Maaike van den Boomen":MAILTO:mvandenboomen@mgh.harvard.edu
END:VEVENT
BEGIN:VEVENT
DTSTART;TZID=America/New_York:20200507T120000
DTEND;TZID=America/New_York:20200507T130000
DTSTAMP:20260422T114943
CREATED:20200423T143304Z
LAST-MODIFIED:20200505T143455Z
UID:8969-1588852800-1588856400@www.martinos.org
SUMMARY:BrainMap: Advanced MRI for in vivo imaging of the effects of inflammation on the CNS
DESCRIPTION:Mara Cercignani\, Clinical Imaging Sciences Centre\, Department of Neuroscience\, Brighton and Sussex Medical School \nZoom Link: https://zoom.us/j/153319823 \nOr iPhone one-tap :\nUS: +13126266799\,\,153319823# or +16468769923\,\,153319823#\nOr Telephone:\nDial(for higher quality\, dial a number based on your current location):\nUS: +1 312 626 6799 or +1 646 876 9923 or +1 301 715 8592 or +1 346 248 7799 or +1 408 638 0968 or +1 669 900 6833 or +1 253 215 8782\nWebinar ID: 153 319 823\nInternational numbers available: https://zoom.us/u/adBWphwtx6 \n  \n\n  \nSpeaker \nMara Cercignani
URL:https://www.martinos.org/event/brainmap-200507/
CATEGORIES:BrainMap
END:VEVENT
BEGIN:VEVENT
DTSTART;TZID=America/New_York:20200501T160000
DTEND;TZID=America/New_York:20200501T163000
DTSTAMP:20260422T114943
CREATED:20200423T143335Z
LAST-MODIFIED:20200427T141023Z
UID:8957-1588348800-1588350600@www.martinos.org
SUMMARY:Science on Tap: Neural Mechanisms Underlying Social Reward-Threat
DESCRIPTION:Travis Evans\, MGH Martinos Center for Biomedical Imaging \nZoom link: https://zoom.us/j/658603416 \nGrab your own snacks and drinks and join the talk at 4:00pm. \nShare your “BYOB Science on Tap” selfies using @MGHMartinos or #MGHMartinos and let’s celebrate our Fridays together! \n  \nIf you’d like to tell the Martinos Community about your work in 10 mins\, email: \nMaaike van den Boomen       mvandenboomen@mgh.harvard.edu \nPatricia Cirillo                        pcirillo1@mgh.harvard.edu \nJohn Samuelsson                   johnsam@mit.edu
URL:https://www.martinos.org/event/science-on-tap-200501/
CATEGORIES:Science on Tap
ORGANIZER;CN="Maaike van den Boomen":MAILTO:mvandenboomen@mgh.harvard.edu
END:VEVENT
BEGIN:VEVENT
DTSTART;TZID=America/New_York:20200430T170000
DTEND;TZID=America/New_York:20200430T180000
DTSTAMP:20260422T114943
CREATED:20200427T140731Z
LAST-MODIFIED:20200427T140751Z
UID:9026-1588266000-1588269600@www.martinos.org
SUMMARY:Why & How: Development and Applications of Molecular Probes for PET and MRI
DESCRIPTION:Changning Wang & Veronica Clavijo Jordan\nMGH Martinos Center for Biomedical Imaging \nZoom link: https://zoom.us/j/95325814992 \nPlease feel free to pass this announcement to your colleagues. For the full schedule of upcoming talks\, please visit the Why-N-How wiki page.
URL:https://www.martinos.org/event/why-how-200430/
ORGANIZER;CN="Avery Berman":MAILTO:AJBERMAN@mgh.harvard.edu
END:VEVENT
BEGIN:VEVENT
DTSTART;TZID=America/New_York:20200424T160000
DTEND;TZID=America/New_York:20200424T163000
DTSTAMP:20260422T114943
CREATED:20200420T162140Z
LAST-MODIFIED:20200420T162140Z
UID:8927-1587744000-1587745800@www.martinos.org
SUMMARY:Science on Tap: Do you find this face attractive? Measuring anhedonia through explicit ratings of facial attractiveness
DESCRIPTION:Tracy Barbour\, MGH Martinos Center for Biomedical Imaging \nZoom link: https://zoom.us/j/658603416 \nGrab your own snacks and drinks and join the talk at 4:00pm. \nShare your “BYOB Science on Tap” selfies using @MGHMartinos or #MGHMartinos and let’s celebrate our Fridays together! \n  \nIf you’d like to tell the Martinos Community about your work in 10 mins\, email: \nMaaike van den Boomen       mvandenboomen@mgh.harvard.edu \nPatricia Cirillo                        pcirillo1@mgh.harvard.edu \nJohn Samuelsson                   johnsam@mit.edu
URL:https://www.martinos.org/event/science-on-tap-200424/
ORGANIZER;CN="Maaike van den Boomen":MAILTO:mvandenboomen@mgh.harvard.edu
END:VEVENT
BEGIN:VEVENT
DTSTART;TZID=America/New_York:20200423T170000
DTEND;TZID=America/New_York:20200423T173000
DTSTAMP:20260422T114943
CREATED:20200423T143359Z
LAST-MODIFIED:20200423T145444Z
UID:8993-1587661200-1587663000@www.martinos.org
SUMMARY:Why & How Seminar: Development and Applications of Molecular Probes for PET and MRI
DESCRIPTION:Changning Wang & Veronica Clavijo Jordan – The Martinos Center \nWhen: Apr 30\, 2020 05:00 PM Eastern Time (US and Canada) \n    Every week on Thu\, until Dec 31\, 2020\, 36 occurrence(s) \n    Please download and import the following iCalendar (.ics) files to your calendar system.  \nhttps://zoom.us/webinar/tJEudeygrz8jE9aWZea63qfEj_b0lsf5Q1S6/ics?icsToken=98tyKuCtrTkvEtWRuRCFRowMA4joZ_zzmClEj_pcqyXgAnYAcwXTPN1AYr5sFo3h \nTopic: Why & How Seminar: \nDevelopment and Applications of Molecular Probes for PET and MRI \nPlease click the link below to join the webinar: \nhttps://zoom.us/j/95325814992 \nOr iPhone one-tap : \n    US: +13126266799\,\,95325814992#  or +16468769923\,\,95325814992# \nOr Telephone: \n    Dial(for higher quality\, dial a number based on your current location): \n        US: +1 312 626 6799  or +1 646 876 9923  or +1 408 638 0968  or +1 669 900 6833  or +1 253 215 8782  or +1 301 \n715 8592  or +1 346 248 7799 \n    Webinar ID: 953 2581 4992 \n    International numbers available: https://zoom.us/u/adKNJ06D9D
URL:https://www.martinos.org/event/why-how-seminar-development-and-applications-of-molecular-probes-for-pet-and-mri/
END:VEVENT
BEGIN:VEVENT
DTSTART;TZID=America/New_York:20200423T120000
DTEND;TZID=America/New_York:20200423T130000
DTSTAMP:20260422T114943
CREATED:20200422T153634Z
LAST-MODIFIED:20200422T154311Z
UID:8951-1587643200-1587646800@www.martinos.org
SUMMARY:BrainMap: Connectomic Brain Stimulation
DESCRIPTION:Andreas Horn\, PhD\, Charité – Universitätsmedizin Berlin\, Germany \nZoom link: https://zoom.us/j/153319823 \nOr iPhone one-tap :\nUS: +16468769923\,\,153319823# or +13126266799\,\,153319823# \nOr Telephone:\nDial (for higher quality\, dial a number based on your current location):\nUS: +1 646 876 9923 or +1 312 626 6799 or +1 346 248 7799 or +1 408 638 0968 or +1 669 900 6833 or +1 253 215 8782 or +1 301 715 8592\nWebinar ID: 153 319 823 \nInternational numbers available: https://zoom.us/u/adKNJ06D9D \n  \n\n  \nSpeaker \nAndreas Horn\, PhD\, Charité – Universitätsmedizin Berlin\, Germany
URL:https://www.martinos.org/event/brainmap-200423/
CATEGORIES:BrainMap
END:VEVENT
BEGIN:VEVENT
DTSTART;TZID=America/New_York:20200417T160000
DTEND;TZID=America/New_York:20200417T163000
DTSTAMP:20260422T114943
CREATED:20200413T143516Z
LAST-MODIFIED:20200413T143625Z
UID:8786-1587139200-1587141000@www.martinos.org
SUMMARY:Science on Tap: In-vivo imaging of neuroinflammation in veterans with Gulf War illness
DESCRIPTION:Zeynab Alshelh\, PhD\, MGH Martinos Center for Biomedical Imaging \nZoom link: https://zoom.us/j/658603416 \nGrab your own snacks and drinks and join the talk at 4:00pm. \nShare your “BYOB Science on Tap” selfies using @MGHMartinos or #MGHMartinos and let’s celebrate our Fridays together! \n  \nIf you’d like to tell the Martinos Community about your work in 10 mins\, email: \nMaaike van den Boomen       mvandenboomen@mgh.harvard.edu \nPatricia Cirillo                        pcirillo1@mgh.harvard.edu \nJohn Samuelsson                   johnsam@mit.edu
URL:https://www.martinos.org/event/science-on-tap-200417/
ORGANIZER;CN="Maaike van den Boomen":MAILTO:mvandenboomen@mgh.harvard.edu
END:VEVENT
BEGIN:VEVENT
DTSTART;TZID=America/New_York:20200416T120000
DTEND;TZID=America/New_York:20200416T130000
DTSTAMP:20260422T114943
CREATED:20200413T141544Z
LAST-MODIFIED:20200413T143753Z
UID:8771-1587038400-1587042000@www.martinos.org
SUMMARY:BrainMap: From water molecules to the mind: Exploring brain function with diffusion MRI
DESCRIPTION:Denis Le Bihan\, MD\, PhD\, Founding Director\, NeuroSpin\, CEA\nNeuroSpin\, CEA-Saclay Center\, Gif-sur-Yvette\, France \nZoom link: https://zoom.us/j/153319823 \nOr iPhone one-tap :\nUS: +16468769923\,\,153319823# or +13126266799\,\,153319823# \nOr Telephone:\nDial (for higher quality\, dial a number based on your current location):\nUS: +1 646 876 9923 or +1 312 626 6799 or +1 346 248 7799 or +1 408 638 0968 or +1 669 900 6833 or +1 253 215 8782 or +1 301 715 8592\nWebinar ID: 153 319 823 \nInternational numbers available: https://zoom.us/u/adKNJ06D9D \n  \n\n  \nSpeaker \nDenis Le Bihan\, MD\, PhD\, Founding Director\, NeuroSpin\, CEA\nNeuroSpin\, CEA-Saclay Center\, Gif-sur-Yvette\, France
URL:https://www.martinos.org/event/brainmap-200416/
CATEGORIES:BrainMap
ATTACH;FMTTYPE=image/jpeg:https://www.martinos.org/wp-content/uploads/2020/04/LeBihan-Denis.jpg
END:VEVENT
BEGIN:VEVENT
DTSTART;TZID=America/New_York:20200410T160000
DTEND;TZID=America/New_York:20200410T163000
DTSTAMP:20260422T114943
CREATED:20200406T160756Z
LAST-MODIFIED:20200406T160945Z
UID:8585-1586534400-1586536200@www.martinos.org
SUMMARY:Science on Tap: Ending the paper trail with REDCap: optimized workflows for screening\, consenting\, and compensating subjects at the Martinos Center (Olivia Rowe)
DESCRIPTION:Zoom link: https://zoom.us/j/658603416 \nGrab your own snacks and drinks and join the talk at 4:00pm. \nShare your “BYOB Science on Tap” selfies using @MGHMartinos or #MGHMartinos and let’s celebrate our Fridays together! \n  \nIf you’d like to tell the Martinos Community about your work in 10 mins\, email: \nMaaike van den Boomen       mvandenboomen@mgh.harvard.edu \nPatricia Cirillo                        pcirillo1@mgh.harvard.edu \nJohn Samuelsson                   johnsam@mit.edu
URL:https://www.martinos.org/event/science-on-tap-ending-paper-trail-redcap-olivia-rowe/
ORGANIZER;CN="Maaike van den Boomen":MAILTO:mvandenboomen@mgh.harvard.edu
END:VEVENT
BEGIN:VEVENT
DTSTART;TZID=America/New_York:20200409T163000
DTEND;TZID=America/New_York:20200409T173000
DTSTAMP:20260422T114943
CREATED:20200409T125644Z
LAST-MODIFIED:20200409T140212Z
UID:8633-1586449800-1586453400@www.martinos.org
SUMMARY:Martinos on the Front Lines: Redeployment during the COVID-19 pandemic (Matthew Larrabee)
DESCRIPTION:Join us @ 4:30 this afternoon as the Center’s Matt Larrabee discusses and takes questions about his experience thus far with his MGH redeployment. \nPlease register in advance using a Partners or MGH/Martinos email address. Prior to the webinar\, you will receive a confirmation email with information about how to join. \nhttps://zoom.us/webinar/registerWN_EGAS7eLHQw6Ke7TjCJv7uw \nA big thanks to Allison Stevens for the idea and for organizing the webinar.
URL:https://www.martinos.org/event/front-lines-matthew-larrabee/
ATTACH;FMTTYPE=image/jpeg:https://www.martinos.org/wp-content/uploads/2020/04/OnTheFrontLines.jpg
END:VEVENT
BEGIN:VEVENT
DTSTART;TZID=America/New_York:20200408T120000
DTEND;TZID=America/New_York:20200408T130000
DTSTAMP:20260422T114943
CREATED:20200402T205022Z
LAST-MODIFIED:20200402T205805Z
UID:8421-1586347200-1586350800@www.martinos.org
SUMMARY:BrainMap: From Areas and Networks to Individual Predictions (Simon Eickhoff)
DESCRIPTION:Zoom link: https://zoom.us/j/153319823 \nOr iPhone one-tap :\nUS: +16468769923\,\,153319823# or +13126266799\,\,153319823# \nOr Telephone:\nDial (for higher quality\, dial a number based on your current location):\nUS: +1 646 876 9923 or +1 312 626 6799 or +1 346 248 7799 or +1 408 638 0968 or +1 669 900 6833 or +1 253 215 8782 or +1 301 715 8592\nWebinar ID: 153 319 823 \nInternational numbers available: https://zoom.us/u/adKNJ06D9D \n  \n\n  \nSpeaker \nSimon Eickhoff\, Heinrich-Heine University in Düsseldorf\, Germany \nAbstract \nThe long predominant paradigm in neuroimaging has been to compare (mean) local volume or activity between groups\, or to correlate these to behavioral phenotypes. Such approach\, however\, is intrinsically limited in terms of possible insight into inter-individual differences and application in clinical practice. Recently\, the increasing availability of large cohort data and tools for multivariate statistical learning\, allowing the prediction of individual cognitive or clinical phenotypes in new subjects\, have started a revolution in imaging neuroscience. \nThe transformation of systems neuroscience into a big data discipline poses a lot of new challenges\, yet the most critical aspects is the still sub-optimal relationship between the extremely wide feature-space from neuroimaging and the comparably low number of subjects. This\, however\, is only true when approaching neuroimaging machine-learning in a naïve fashion\, i.e.\, when ignoring the large body of existing work on human brain mapping. The regional segregation of the brain into distinct modules as well as the large-scale\, distributed networks provide the fundamental organizational principles of the human brain and hence the basis for cognitive information processing. Importantly\, both can now be mapped in a highly robust fashion by integrating information on hundreds or even thousands of individual subjects to provide a priori information. \nThis talk will outline the fundamental principles of topographic organization in the human brain and the robust mapping of functional networks. I will then illustrate\, how this knowledge on human brain organization can be leveraged for inference on socio-affective or cognitive traits in previously unseen individual subjects or psychopathology in mental disorders. Providing a bidirectional translation\, such application will in turn provide information on the respective brain regions and networks. \nSpeaker Bio \nSimon Eickhoff is a full professor and chair of the Institute for Systems Neuroscience at the Heinrich-Heine University in Düsseldorf and the director of the Institute of Neuroscience and Medicine (INM-7\, Brain and Behavior) at the Forschungszentrum Jülich. He is furthermore a visiting professor at the Chinese Academy of Science Institute of Automation. Workig at the interface between neuroanatomy\, data-science and brain medicine\, the he aims to obtain a more detailed characterization of the organization of the human brain and its inter-individual variability in order to better understand its changes in advanced age as well as neurological and psychiatric disorders. This goal is pursued by the development and application of novel analysis tools and approaches for large-scale\, multi-modal analysis of brain structure\, function and connectivity as well as by machine-learning for single subject prediction of cognitive and socio-affective traits and ultimately precision medicine.
URL:https://www.martinos.org/event/brainmap-200408/
END:VEVENT
BEGIN:VEVENT
DTSTART;TZID=America/New_York:20200403T160000
DTEND;TZID=America/New_York:20200403T163000
DTSTAMP:20260422T114943
CREATED:20200330T133344Z
LAST-MODIFIED:20200330T151324Z
UID:8307-1585929600-1585931400@www.martinos.org
SUMMARY:Science on Tap: Resting-State Physiological Networks Mimic Functional Networks (Jingyuan Chen)
DESCRIPTION:Zoom link: https://zoom.us/j/658603416 \nGrab your own snacks and drinks and join the talk at 4:00pm. \nShare your “BYOB Science on Tap” selfies using @MGHMartinos or #MGHMartinos and let’s celebrate our Fridays together! \n  \nUpcoming speaker schedule: \nApr 10 – Olivia Rowe \n  \nIf you’d like to tell the Martinos Community about your work in 10 mins\, email: \nMaaike van den Boomen       mvandenboomen@mgh.harvard.edu \nPatricia Cirillo                        pcirillo1@mgh.harvard.edu \nJohn Samuelsson                   johnsam@mit.edu
URL:https://www.martinos.org/event/science-on-tap-resting-state-physiological-networks-mimic-functional-networks-jingyuan-chen/
ORGANIZER;CN="Maaike van den Boomen":MAILTO:mvandenboomen@mgh.harvard.edu
END:VEVENT
BEGIN:VEVENT
DTSTART;TZID=America/New_York:20200402T140000
DTEND;TZID=America/New_York:20200402T150000
DTSTAMP:20260422T114943
CREATED:20200330T173921Z
LAST-MODIFIED:20200402T152923Z
UID:8391-1585836000-1585839600@www.martinos.org
SUMMARY:Martinos Town Hall Meeting
DESCRIPTION:Zoom link: https://zoom.us/j/364286784 \nJoin us for a discussion with: \n\nBruce Rosen\nBill Shaw\nDonna Crowe\nMonical Langone\nMary Roy
URL:https://www.martinos.org/event/martinos-town-hall-meeting/
CATEGORIES:Martinos Town Hall Meeting
END:VEVENT
BEGIN:VEVENT
DTSTART;TZID=America/New_York:20200327T160000
DTEND;TZID=America/New_York:20200327T163000
DTSTAMP:20260422T114943
CREATED:20200327T143849Z
LAST-MODIFIED:20200327T153255Z
UID:8241-1585324800-1585326600@www.martinos.org
SUMMARY:Science on Tap: Martinos at the Front Lines (Bruce Rosen and Bruce Jenkins)
DESCRIPTION:Zoom link: https://zoom.us/j/658603416 \nGrab your own snacks and drinks and join the talk at 4:00pm. \nShare your “BYOB Science on Tap” selfies using @MGHMartinos or #MGHMartinos and let’s celebrate our Fridays together! \n  \nUpcoming speaker schedule: \nApr 3 – Jingyuan Chen \nApr 10 – Olivia Rowe \n  \nIf you’d like to tell the Martinos Community about your work in 10 mins\, email: \nMaaike van den Boomen       mvandenboomen@mgh.harvard.edu \nPatricia Cirillo                        pcirillo1@mgh.harvard.edu \nJohn Samuelsson                   johnsam@mit.edu
URL:https://www.martinos.org/event/science-on-tap-martinos-at-the-front-lines-bruce-rosen-and-bruce-jenkins/
ORGANIZER;CN="Maaike van den Boomen":MAILTO:mvandenboomen@mgh.harvard.edu
END:VEVENT
BEGIN:VEVENT
DTSTART;TZID=America/New_York:20200325T120000
DTEND;TZID=America/New_York:20200325T130000
DTSTAMP:20260422T114943
CREATED:20200323T153233Z
LAST-MODIFIED:20200323T171850Z
UID:8082-1585137600-1585141200@www.martinos.org
SUMMARY:BrainMap: The Role of Awake Surgery in Studying the Function of Structural Connections
DESCRIPTION:Please click the link below to join the webinar: \nhttps://zoom.us/j/154890699 \n  \nOr iPhone one-tap : \nUS: +16468769923\,\,154890699#  or +13126266799\,\,154890699# \n  \nOr Telephone: \nDial(for higher quality\, dial a number based on your current location): \nUS: +1 646 876 9923  or +1 312 626 6799  or +1 301 715 8592  or +1 346 248 7799  or +1 408 638 0968  or +1 669 900 6833  or +1 253 215 8782 \nWebinar ID: 154 890 699 \nInternational numbers available: https://zoom.us/u/adKNJ06D9D
URL:https://www.martinos.org/event/brainmap-200325/
CATEGORIES:BrainMap
ATTACH;FMTTYPE=image/png:https://www.martinos.org/wp-content/uploads/2020/03/first_slide_howells.png
END:VEVENT
END:VCALENDAR