BEGIN:VCALENDAR
VERSION:2.0
PRODID:-//Martinos Center - ECPv6.15.17//NONSGML v1.0//EN
CALSCALE:GREGORIAN
METHOD:PUBLISH
X-WR-CALNAME:Martinos Center
X-ORIGINAL-URL:https://www.martinos.org
X-WR-CALDESC:Events for Martinos Center
REFRESH-INTERVAL;VALUE=DURATION:PT1H
X-Robots-Tag:noindex
X-PUBLISHED-TTL:PT1H
BEGIN:VTIMEZONE
TZID:America/New_York
BEGIN:DAYLIGHT
TZOFFSETFROM:-0500
TZOFFSETTO:-0400
TZNAME:EDT
DTSTART:20190310T070000
END:DAYLIGHT
BEGIN:STANDARD
TZOFFSETFROM:-0400
TZOFFSETTO:-0500
TZNAME:EST
DTSTART:20191103T060000
END:STANDARD
BEGIN:DAYLIGHT
TZOFFSETFROM:-0500
TZOFFSETTO:-0400
TZNAME:EDT
DTSTART:20200308T070000
END:DAYLIGHT
BEGIN:STANDARD
TZOFFSETFROM:-0400
TZOFFSETTO:-0500
TZNAME:EST
DTSTART:20201101T060000
END:STANDARD
BEGIN:DAYLIGHT
TZOFFSETFROM:-0500
TZOFFSETTO:-0400
TZNAME:EDT
DTSTART:20210314T070000
END:DAYLIGHT
BEGIN:STANDARD
TZOFFSETFROM:-0400
TZOFFSETTO:-0500
TZNAME:EST
DTSTART:20211107T060000
END:STANDARD
END:VTIMEZONE
BEGIN:VEVENT
DTSTART;TZID=America/New_York:20200701T120000
DTEND;TZID=America/New_York:20200701T130000
DTSTAMP:20260422T044924
CREATED:20200630T152730Z
LAST-MODIFIED:20200630T152730Z
UID:9479-1593604800-1593608400@www.martinos.org
SUMMARY:BrainMap: Capillary Dysfunction and Its Role in Brain Tissue Oxygenation
DESCRIPTION:Kim Beuschau Mouridsen\, Ph.D.\, Professor at Aarhus University \nAbstract: \nThere is growing evidence that cerebral oxygen availability depends on both cerebral blood flow and capillary function and integrity. During this webinar\, Professor Kim Beuschau Mouridsen\, will take a unified look at capillary dysfunction in a range of neurological diseases such as acute stroke\, oncology and dementia\, and show how this mechanism can be visualized with routine imaging protocols. \nBio: \n\nKim Beuschau Mouridsen\, PhD\, MSc is a Professor at Aarhus University\, Denmark. He is the head of Neuroimaging Methods at the Center for Functionally Integrative Neuroscience (CFIN) and MINDLab. Professor Mouridsen has published over 70 papers in peer-reviewed journals\, holds 7 patents and is a serial entrepreneur.\nZoom Link: https://zoom.us/j/153319823 \nOr iPhone one-tap :\nUS: +13126266799\,\,153319823# or +16468769923\,\,153319823#\nOr Telephone:\nDial(for higher quality\, dial a number based on your current location):\nUS: +1 312 626 6799 or +1 646 876 9923 or +1 301 715 8592 or +1 346 248 7799 or +1 408 638 0968 or +1 669 900 6833 or +1 253 215 8782\nWebinar ID: 153 319 823\nInternational numbers available: https://zoom.us/u/adBWphwtx6 \n  \n\n  \nSpeaker \nKim Beuschau Mouridsen\, Ph.D.\, Professor at Aarhus University
URL:https://www.martinos.org/event/brainmap-200701/
CATEGORIES:BrainMap
END:VEVENT
BEGIN:VEVENT
DTSTART;TZID=America/New_York:20200708T120000
DTEND;TZID=America/New_York:20200708T130000
DTSTAMP:20260422T044924
CREATED:20200609T182050Z
LAST-MODIFIED:20200612T175133Z
UID:9299-1594209600-1594213200@www.martinos.org
SUMMARY:BrainMap: Making Sense of Time in the Human Mind
DESCRIPTION:Virginie van Wassenhove\, Ph.D.\, Research Director\, Université Paris-Sud\, France \nAbstract: \nLate 2008\, she moved to NeuroSpin (France) to build NeuroSpin MEG and her research group. The Cognition & Brain Dynamics lab mostly uses psychophysics and time-resolved neuroimaging to study temporal cognition\, with the understanding\, that humans’ conceptualization of time may dramatically affect how we conceive of the mind and brain. The neural mechanisms supporting temporal cognition remain debated considering they do not encompass a unitary brain function. Temporal cognition in humans is a composite of psychological realities ranging from the individuation and ordering of events to the feeling that time passes\, that things exist for a while (duration) or that we can mentally travel time. Several difficulties stand in the way of understanding psychological time: subjective temporalities emerge from the perspective of the brain – the generator\, actuator and observer of events – and not that of the external observer (the experimenter). The psychological time arrow\, taken as our sense of past-to-future\, is a convenient metaphor for how allo- and egocentric temporal cognitive maps may help the capacity to mentally travel time\, namely the capacity to generate a chronology of events suiting narratives. The ability to introspect about one’s timing productions (temporal metacognition) will further illustrate that time is “represented”\, thus coded\, and that the variability of timing is also constitutive of temporal representations. Altogether\, these recent findings go beyond our classic notions of temporal perception as duration and focus on the endogenous generation of high-level temporalities may yield abstract and intelligible representations of time in the human mind. \nBio: \nVirginie van Wassenhove is a CEA and INSERM Research Director at NeuroSpin\, France. She received her PhD in Neurosciences and Cognitive Sciences at the University of Maryland (College Park\, USA in 2004). Her thesis proposed the Analysis-by-Synthesis as a generative predictive coding framework for the integration of audiovisual speech in the human brain. \nIn 2005\, she joined the UCSF to study auditory and multisensory learning and plasticity with MEG. In 2006\, she relocated to a dual position at UCLA and at Caltech to work on multiple projects that included implicit statistical learning\, time perception\, gesture communication\, and interpersonal interactions. \nZoom Link: https://zoom.us/j/153319823 \nOr iPhone one-tap :\nUS: +13126266799\,\,153319823# or +16468769923\,\,153319823#\nOr Telephone:\nDial(for higher quality\, dial a number based on your current location):\nUS: +1 312 626 6799 or +1 646 876 9923 or +1 301 715 8592 or +1 346 248 7799 or +1 408 638 0968 or +1 669 900 6833 or +1 253 215 8782\nWebinar ID: 153 319 823\nInternational numbers available: https://zoom.us/u/adBWphwtx6 \n  \n\n  \nSpeaker \nVirginie van Wassenhove\, Ph.D.\, Research Director\, Université Paris-Sud\, France
URL:https://www.martinos.org/event/brainmap-200610/
CATEGORIES:BrainMap
END:VEVENT
BEGIN:VEVENT
DTSTART;TZID=America/New_York:20200715T120000
DTEND;TZID=America/New_York:20200715T130000
DTSTAMP:20260422T044924
CREATED:20200713T204648Z
LAST-MODIFIED:20200714T164637Z
UID:9491-1594814400-1594818000@www.martinos.org
SUMMARY:BrainMap: Imaging and Stimulating Adaptive Brain Plasticity
DESCRIPTION:Heidi Johansen-Berg\, Ph.D.\, Director of the Wellcome Centre for Integrative Neuroimaging\, FMRIB\, University of Oxford \nAbstract: \nAnimal studies show that the adult brain shows remarkable plasticity in response to learning or recovery from injury. Non-invasive brain imaging techniques can be used to detect systems-level structural and functional plasticity in the human brain. This talk will focus on how brain imaging has allowed us to monitor healthy brains learning new motor skills\, to assess how brains recover after damage\, such as stroke\, and how they adapt to change\, such as limb amputation. \nAlthough imaging is useful to detect such adaptations\, many brain imaging measures are non-specific and do not allow us to pinpoint the underlying cellular changes that are driving observed effects. The talk will also discuss studies in animal models in which both imaging and histological approaches can be used to shed light on the underlying biological drivers for structural plasticity detected using MRI. \nFinally\, the talk will discuss how brain stimulation can be used to manipulate brain remodelling.  For example\, transcranial direct current stimulation (tDCS) to the motor cortex can speed people¹s learning of a new task\, alter their brain chemistry\, or improve function in stroke patients. FMRI identifies changes in cortical activity that may mediate these functional benefits. In future\, imaging could be used to guide individually targeted brain stimulation to enhance adaptive brain plasticity. \nBio: \nHeidi Johansen-Berg is a Wellcome Principal Research Fellow and Director of the Wellcome Centre for Integrative Neuroimaging (WIN)\, based at FMRIB at the University of Oxford. The WIN aims to exploit the ability of non-invasive neuroimaging to bridge the gap between laboratory neuroscience and human health. Heidi’s own research group investigates plasticity and recovery in the sensorimotor system\, with particular focus on white matter plasticity. The group’s research uses a variety of neuroimaging and stimulation tools in healthy human volunteers across the lifespan\, individuals with brain damage\, and rodents. \nZoom Link: https://zoom.us/j/153319823 \nOr iPhone one-tap :\nUS: +13126266799\,\,153319823# or +16468769923\,\,153319823#\nOr Telephone:\nDial(for higher quality\, dial a number based on your current location):\nUS: +1 312 626 6799 or +1 646 876 9923 or +1 301 715 8592 or +1 346 248 7799 or +1 408 638 0968 or +1 669 900 6833 or +1 253 215 8782\nWebinar ID: 153 319 823\nInternational numbers available: https://zoom.us/u/adBWphwtx6 \n  \n\n  \nSpeaker \nHeidi Johansen-Berg\, Ph.D.\, Director of the Wellcome Centre for Integrative Neuroimaging\, FMRIB\, University of Oxford
URL:https://www.martinos.org/event/brainmap-200715/
CATEGORIES:BrainMap
END:VEVENT
BEGIN:VEVENT
DTSTART;TZID=America/New_York:20200722T120000
DTEND;TZID=America/New_York:20200722T130000
DTSTAMP:20260422T044924
CREATED:20200720T152124Z
LAST-MODIFIED:20200720T152124Z
UID:9569-1595419200-1595422800@www.martinos.org
SUMMARY:BrainMap: Neural Mechanisms for Face Perception and Recognition
DESCRIPTION:Maria Ida Gobbini\, Medical School of the University of Bologna\, Department of Experimental\, Diagnostic and Specialty Medicine DIMES \n\nZoom Link: https://zoom.us/j/153319823 \nOr iPhone one-tap :\nUS: +13126266799\,\,153319823# or +16468769923\,\,153319823#\nOr Telephone:\nDial(for higher quality\, dial a number based on your current location):\nUS: +1 312 626 6799 or +1 646 876 9923 or +1 301 715 8592 or +1 346 248 7799 or +1 408 638 0968 or +1 669 900 6833 or +1 253 215 8782\nWebinar ID: 153 319 823\nInternational numbers available: https://zoom.us/u/adBWphwtx6 \n  \n\n  \nSpeaker \nMaria Ida Gobbini\, Medical School of the University of Bologna\, Department of Experimental\, Diagnostic and Specialty Medicine DIMES
URL:https://www.martinos.org/event/brainmap-200722/
CATEGORIES:BrainMap
END:VEVENT
BEGIN:VEVENT
DTSTART;TZID=America/New_York:20200729T120000
DTEND;TZID=America/New_York:20200729T130000
DTSTAMP:20260422T044924
CREATED:20200728T193607Z
LAST-MODIFIED:20200728T193607Z
UID:9623-1596024000-1596027600@www.martinos.org
SUMMARY:BrainMap: Retrospective and Prospective Harmonization of Multi-Site Diffusion MRI Data
DESCRIPTION:Yogesh Rathi\, Ph.D\,  Brigham and Women’s Hospital\, Harvard Medical School \nAbstract: MRI data acquired from multiple scanners is affected by several site specific effects such as the vendor specific reconstruction algorithm\, the sensitivity of the receiver coils\, as well as differences in acquisition parameters. This is especially true for diffusion MRI data. Consequently\, direct pooling of data from different scanners can result in dramatically decreased statistical power in detecting subtle changes in the white/gray matter tissue microstructure. Our experimental work shows that these scanner effects are non-linear and vary across different parts of the brain. In this talk\, I will present our algorithm on harmonizing dMRI data acquired from multiple scanners for retrospective as well as prospective multi-site studies. In particular\, key advantages/disadvantages of this method compared to the standard methods of statistical covariates or meta-analysis will be discussed. I will also talk about our ongoing efforts on harmonizing 30\,000 subjects from ABCD\, HCP and HBN databases\, which will enable very large-scale data analysis using any type of dMRI model. \nBrief bio:  Yogesh Rathi is an Associate Professor at the Brigham and Women’s Hospital\, Harvard Medical School. Dr. Rathi’s research interests lie in developing smart imaging techniques to understand brain structure and function. His current research focus is on  \n1). Ultra-high resolution diffusion imaging in a clinically feasible scan time combining acquisition and reconstruction;  \n2). Harmonizing multi-site diffusion MRI data from 30\,000 subjects;  \n3). estimating tissue microstructure from biophysical and stochastic models of diffusion\, and  \n4). time-series analysis for understanding functional connectivity using fMRI data.  \nHis clinical research focus includes using and developing sophisticated tractography algorithms for precise targeting of deep-brain stimulation (DBS) and transcranial magnetic stimulation (TMS) in obsessive compulsive disorder (OCD)\, Parkinson’s and major depressive disorder (MDD). His broad research focus is in the areas of signal and image-processing\, statistics\, control theory\, machine learning\, computer vision and related applications to solve inverse problems in medical imaging. \nZoom Link: https://zoom.us/j/153319823 \nOr iPhone one-tap :\nUS: +13126266799\,\,153319823# or +16468769923\,\,153319823#\nOr Telephone:\nDial(for higher quality\, dial a number based on your current location):\nUS: +1 312 626 6799 or +1 646 876 9923 or +1 301 715 8592 or +1 346 248 7799 or +1 408 638 0968 or +1 669 900 6833 or +1 253 215 8782\nWebinar ID: 153 319 823\nInternational numbers available: https://zoom.us/u/adBWphwtx6 \n  \n\n  \nSpeaker \nYogesh Rathi\, Ph.D\,  Brigham and Women’s Hospital\, Harvard Medical School
URL:https://www.martinos.org/event/brainmap-200729/
CATEGORIES:BrainMap
END:VEVENT
END:VCALENDAR