BEGIN:VCALENDAR
VERSION:2.0
PRODID:-//Martinos Center - ECPv6.15.17//NONSGML v1.0//EN
CALSCALE:GREGORIAN
METHOD:PUBLISH
X-WR-CALNAME:Martinos Center
X-ORIGINAL-URL:https://www.martinos.org
X-WR-CALDESC:Events for Martinos Center
REFRESH-INTERVAL;VALUE=DURATION:PT1H
X-Robots-Tag:noindex
X-PUBLISHED-TTL:PT1H
BEGIN:VTIMEZONE
TZID:America/New_York
BEGIN:DAYLIGHT
TZOFFSETFROM:-0500
TZOFFSETTO:-0400
TZNAME:EDT
DTSTART:20240310T070000
END:DAYLIGHT
BEGIN:STANDARD
TZOFFSETFROM:-0400
TZOFFSETTO:-0500
TZNAME:EST
DTSTART:20241103T060000
END:STANDARD
BEGIN:DAYLIGHT
TZOFFSETFROM:-0500
TZOFFSETTO:-0400
TZNAME:EDT
DTSTART:20250309T070000
END:DAYLIGHT
BEGIN:STANDARD
TZOFFSETFROM:-0400
TZOFFSETTO:-0500
TZNAME:EST
DTSTART:20251102T060000
END:STANDARD
BEGIN:DAYLIGHT
TZOFFSETFROM:-0500
TZOFFSETTO:-0400
TZNAME:EDT
DTSTART:20260308T070000
END:DAYLIGHT
BEGIN:STANDARD
TZOFFSETFROM:-0400
TZOFFSETTO:-0500
TZNAME:EST
DTSTART:20261101T060000
END:STANDARD
END:VTIMEZONE
BEGIN:VEVENT
DTSTART;TZID=America/New_York:20250402T120000
DTEND;TZID=America/New_York:20250402T130000
DTSTAMP:20260420T064635
CREATED:20250401T180040Z
LAST-MODIFIED:20250401T180040Z
UID:17036-1743595200-1743598800@www.martinos.org
SUMMARY:BrainMap: Neurochemical and behavioral changes during NREM and REM sleep for learning in humans
DESCRIPTION:Speaker: Dr. Masako Tamaki\, PhD – RIKEN Center for Brain Science \nZoom Link: https://zoom.us/j/153319823 \nOr iPhone one-tap :\nUS: +13126266799\,\,153319823# or +16468769923\,\,153319823#\nOr Telephone:\nDial(for higher quality\, dial a number based on your current location):\nUS: +1 312 626 6799 or +1 646 876 9923 or +1 301 715 8592 or +1 346 248 7799 or +1 408 638 0968 or +1 669 900 6833 or +1 253 215 8782\nWebinar ID: 153 319 823\nInternational numbers available: https://zoom.us/u/adBWphwtx6 \n  \n\n 
URL:https://www.martinos.org/event/brainmap-25-04-01/
CATEGORIES:BrainMap
ORGANIZER;CN="Abbas Sohrabpour":MAILTO:asohrabpour@mgh.harvard.edu
END:VEVENT
BEGIN:VEVENT
DTSTART;TZID=America/New_York:20250403T120000
DTEND;TZID=America/New_York:20250403T130000
DTSTAMP:20260420T064635
CREATED:20250320T221529Z
LAST-MODIFIED:20250320T221529Z
UID:17000-1743681600-1743685200@www.martinos.org
SUMMARY:BrainMap: Towards clinical body MRI at 7T: challenges and technical solutions
DESCRIPTION:Speaker: Dr. Sebastian Schmitter\, PhD – Physikalisch-Technische Bundesanstalt (PTB) \nZoom Link: https://zoom.us/j/153319823 \nOr iPhone one-tap :\nUS: +13126266799\,\,153319823# or +16468769923\,\,153319823#\nOr Telephone:\nDial(for higher quality\, dial a number based on your current location):\nUS: +1 312 626 6799 or +1 646 876 9923 or +1 301 715 8592 or +1 346 248 7799 or +1 408 638 0968 or +1 669 900 6833 or +1 253 215 8782\nWebinar ID: 153 319 823\nInternational numbers available: https://zoom.us/u/adBWphwtx6 \n  \n\n 
URL:https://www.martinos.org/event/brainmap-25-04-03/
CATEGORIES:BrainMap
ORGANIZER;CN="Abbas Sohrabpour":MAILTO:asohrabpour@mgh.harvard.edu
END:VEVENT
BEGIN:VEVENT
DTSTART;TZID=America/New_York:20250409T120000
DTEND;TZID=America/New_York:20250409T130000
DTSTAMP:20260420T064635
CREATED:20250320T221154Z
LAST-MODIFIED:20250320T221154Z
UID:16995-1744200000-1744203600@www.martinos.org
SUMMARY:BrainMap: Postmortem human brain imaging by Optical Coherence Tomography -- Multimodal\, multiscale study of the infant brainstem
DESCRIPTION:Speaker: Dr. Caroline Magnain\, PhD – Martinos Center/MGH \nZoom Link: https://zoom.us/j/153319823 \nOr iPhone one-tap :\nUS: +13126266799\,\,153319823# or +16468769923\,\,153319823#\nOr Telephone:\nDial(for higher quality\, dial a number based on your current location):\nUS: +1 312 626 6799 or +1 646 876 9923 or +1 301 715 8592 or +1 346 248 7799 or +1 408 638 0968 or +1 669 900 6833 or +1 253 215 8782\nWebinar ID: 153 319 823\nInternational numbers available: https://zoom.us/u/adBWphwtx6 \n  \n\n 
URL:https://www.martinos.org/event/brainmap-25-04-09/
CATEGORIES:BrainMap
ORGANIZER;CN="Dinank Gupta":MAILTO:dgupta6@mgh.harvard.edu
END:VEVENT
BEGIN:VEVENT
DTSTART;TZID=America/New_York:20250416T120000
DTEND;TZID=America/New_York:20250416T130000
DTSTAMP:20260420T064635
CREATED:20250401T180531Z
LAST-MODIFIED:20250401T180531Z
UID:17041-1744804800-1744808400@www.martinos.org
SUMMARY:BrainMap: Title TBD
DESCRIPTION:Speaker: Dr. Mohsen Jamali\, MD\, PhD – MGH/HMS \nZoom Link: https://zoom.us/j/153319823 \nOr iPhone one-tap :\nUS: +13126266799\,\,153319823# or +16468769923\,\,153319823#\nOr Telephone:\nDial(for higher quality\, dial a number based on your current location):\nUS: +1 312 626 6799 or +1 646 876 9923 or +1 301 715 8592 or +1 346 248 7799 or +1 408 638 0968 or +1 669 900 6833 or +1 253 215 8782\nWebinar ID: 153 319 823\nInternational numbers available: https://zoom.us/u/adBWphwtx6 \n  \n\n 
URL:https://www.martinos.org/event/brainmap-25-04-16/
CATEGORIES:BrainMap
ORGANIZER;CN="Abbas Sohrabpour":MAILTO:asohrabpour@mgh.harvard.edu
END:VEVENT
BEGIN:VEVENT
DTSTART;TZID=America/New_York:20250423T120000
DTEND;TZID=America/New_York:20250423T130000
DTSTAMP:20260420T064635
CREATED:20250320T221705Z
LAST-MODIFIED:20250320T221903Z
UID:17002-1745409600-1745413200@www.martinos.org
SUMMARY:BrainMap: Memory-related dynamics and their hijacking in hyperexcitability
DESCRIPTION:Speaker: Dr. Jordan Farrell\, PhD – BCH/HMS \nZoom Link: https://zoom.us/j/153319823 \nOr iPhone one-tap :\nUS: +13126266799\,\,153319823# or +16468769923\,\,153319823#\nOr Telephone:\nDial(for higher quality\, dial a number based on your current location):\nUS: +1 312 626 6799 or +1 646 876 9923 or +1 301 715 8592 or +1 346 248 7799 or +1 408 638 0968 or +1 669 900 6833 or +1 253 215 8782\nWebinar ID: 153 319 823\nInternational numbers available: https://zoom.us/u/adBWphwtx6 \n  \n\n 
URL:https://www.martinos.org/event/brainmap-25-04-23/
CATEGORIES:BrainMap
ORGANIZER;CN="Abbas Sohrabpour":MAILTO:asohrabpour@mgh.harvard.edu
END:VEVENT
BEGIN:VEVENT
DTSTART;TZID=America/New_York:20250430T120000
DTEND;TZID=America/New_York:20250430T130000
DTSTAMP:20260420T064635
CREATED:20250429T201242Z
LAST-MODIFIED:20250429T201242Z
UID:17107-1746014400-1746018000@www.martinos.org
SUMMARY:BrainMap: Precision Network Therapeutics with Real-Time Neurofeedback
DESCRIPTION:Speaker: Susan Whitfield-Gabrieli PhD\, Massachusetts General Hospital (MGH) \nZoom Link: https://zoom.us/j/153319823 \nOr iPhone one-tap :\nUS: +13126266799\,\,153319823# or +16468769923\,\,153319823#\nOr Telephone:\nDial(for higher quality\, dial a number based on your current location):\nUS: +1 312 626 6799 or +1 646 876 9923 or +1 301 715 8592 or +1 346 248 7799 or +1 408 638 0968 or +1 669 900 6833 or +1 253 215 8782\nWebinar ID: 153 319 823\nInternational numbers available: https://zoom.us/u/adBWphwtx6 \n  \n\n 
URL:https://www.martinos.org/event/brainmap-25-04-30/
CATEGORIES:BrainMap
ORGANIZER;CN="Chi-Hyeon Yoo":MAILTO:cyoo5@mgh.harvard.edu
END:VEVENT
END:VCALENDAR