BEGIN:VCALENDAR
VERSION:2.0
PRODID:-//Martinos Center - ECPv6.15.17//NONSGML v1.0//EN
CALSCALE:GREGORIAN
METHOD:PUBLISH
X-ORIGINAL-URL:https://www.martinos.org
X-WR-CALDESC:Events for Martinos Center
REFRESH-INTERVAL;VALUE=DURATION:PT1H
X-Robots-Tag:noindex
X-PUBLISHED-TTL:PT1H
BEGIN:VTIMEZONE
TZID:America/New_York
BEGIN:DAYLIGHT
TZOFFSETFROM:-0500
TZOFFSETTO:-0400
TZNAME:EDT
DTSTART:20240310T070000
END:DAYLIGHT
BEGIN:STANDARD
TZOFFSETFROM:-0400
TZOFFSETTO:-0500
TZNAME:EST
DTSTART:20241103T060000
END:STANDARD
BEGIN:DAYLIGHT
TZOFFSETFROM:-0500
TZOFFSETTO:-0400
TZNAME:EDT
DTSTART:20250309T070000
END:DAYLIGHT
BEGIN:STANDARD
TZOFFSETFROM:-0400
TZOFFSETTO:-0500
TZNAME:EST
DTSTART:20251102T060000
END:STANDARD
BEGIN:DAYLIGHT
TZOFFSETFROM:-0500
TZOFFSETTO:-0400
TZNAME:EDT
DTSTART:20260308T070000
END:DAYLIGHT
BEGIN:STANDARD
TZOFFSETFROM:-0400
TZOFFSETTO:-0500
TZNAME:EST
DTSTART:20261101T060000
END:STANDARD
END:VTIMEZONE
BEGIN:VEVENT
DTSTART;TZID=America/New_York:20250501T120000
DTEND;TZID=America/New_York:20250501T130000
DTSTAMP:20260420T055954
CREATED:20250320T221816Z
LAST-MODIFIED:20250320T221816Z
UID:17004-1746100800-1746104400@www.martinos.org
SUMMARY:BrainMap: Understanding mental-physical comorbidity via integrated modeling of brain-body axis
DESCRIPTION:Speaker: Dr. Ye Tian\, PhD – The University of Melbourne \nZoom Link: https://zoom.us/j/153319823 \nOr iPhone one-tap :\nUS: +13126266799\,\,153319823# or +16468769923\,\,153319823#\nOr Telephone:\nDial(for higher quality\, dial a number based on your current location):\nUS: +1 312 626 6799 or +1 646 876 9923 or +1 301 715 8592 or +1 346 248 7799 or +1 408 638 0968 or +1 669 900 6833 or +1 253 215 8782\nWebinar ID: 153 319 823\nInternational numbers available: https://zoom.us/u/adBWphwtx6 \n  \n\n 
URL:https://www.martinos.org/event/brainmap-25-05-01/
CATEGORIES:BrainMap
ORGANIZER;CN="Abbas Sohrabpour":MAILTO:asohrabpour@mgh.harvard.edu
END:VEVENT
BEGIN:VEVENT
DTSTART;TZID=America/New_York:20250507T120000
DTEND;TZID=America/New_York:20250507T130000
DTSTAMP:20260420T055954
CREATED:20250320T222033Z
LAST-MODIFIED:20250425T204244Z
UID:17007-1746619200-1746622800@www.martinos.org
SUMMARY:BrainMap: At the Frontiers of the Neuroscience of Psychedelics
DESCRIPTION:Speaker: Dr. Sharmin Ghaznavi\, MD\, PhD – MGH/HMS \nZoom Link: https://zoom.us/j/153319823 \nOr iPhone one-tap :\nUS: +13126266799\,\,153319823# or +16468769923\,\,153319823#\nOr Telephone:\nDial(for higher quality\, dial a number based on your current location):\nUS: +1 312 626 6799 or +1 646 876 9923 or +1 301 715 8592 or +1 346 248 7799 or +1 408 638 0968 or +1 669 900 6833 or +1 253 215 8782\nWebinar ID: 153 319 823\nInternational numbers available: https://zoom.us/u/adBWphwtx6 \n  \n\n 
URL:https://www.martinos.org/event/brainmap-25-05-07/
CATEGORIES:BrainMap
ORGANIZER;CN="Abbas Sohrabpour":MAILTO:asohrabpour@mgh.harvard.edu
END:VEVENT
BEGIN:VEVENT
DTSTART;TZID=America/New_York:20250521T120000
DTEND;TZID=America/New_York:20250521T130000
DTSTAMP:20260420T055954
CREATED:20250401T180214Z
LAST-MODIFIED:20250401T180214Z
UID:17038-1747828800-1747832400@www.martinos.org
SUMMARY:BrainMap: Decoding Geometric Properties of Task Representations for Cognitive Control
DESCRIPTION:Speaker: Dr. Atsushi Kikumoto\, PhD – Brown University (incoming assistant professor at University of Maryland) \nZoom Link: https://zoom.us/j/153319823 \nOr iPhone one-tap :\nUS: +13126266799\,\,153319823# or +16468769923\,\,153319823#\nOr Telephone:\nDial(for higher quality\, dial a number based on your current location):\nUS: +1 312 626 6799 or +1 646 876 9923 or +1 301 715 8592 or +1 346 248 7799 or +1 408 638 0968 or +1 669 900 6833 or +1 253 215 8782\nWebinar ID: 153 319 823\nInternational numbers available: https://zoom.us/u/adBWphwtx6 \n  \n\n 
URL:https://www.martinos.org/event/brainmap-25-05-21/
CATEGORIES:BrainMap
ORGANIZER;CN="Abbas Sohrabpour":MAILTO:asohrabpour@mgh.harvard.edu
END:VEVENT
BEGIN:VEVENT
DTSTART;TZID=America/New_York:20250528T120000
DTEND;TZID=America/New_York:20250528T130000
DTSTAMP:20260420T055954
CREATED:20250320T222138Z
LAST-MODIFIED:20250425T204305Z
UID:17009-1748433600-1748437200@www.martinos.org
SUMMARY:BrainMap: Introduction to Neuroblox
DESCRIPTION:Speaker: Prof. Lilianne R. Mujica-Parodi\, PhD – Stony Brook University/Martinos Center\, MGH \nZoom Link: https://zoom.us/j/153319823 \nOr iPhone one-tap :\nUS: +13126266799\,\,153319823# or +16468769923\,\,153319823#\nOr Telephone:\nDial(for higher quality\, dial a number based on your current location):\nUS: +1 312 626 6799 or +1 646 876 9923 or +1 301 715 8592 or +1 346 248 7799 or +1 408 638 0968 or +1 669 900 6833 or +1 253 215 8782\nWebinar ID: 153 319 823\nInternational numbers available: https://zoom.us/u/adBWphwtx6 \n  \n\n 
URL:https://www.martinos.org/event/brainmap-25-05-28/
CATEGORIES:BrainMap
ORGANIZER;CN="Abbas Sohrabpour":MAILTO:asohrabpour@mgh.harvard.edu
END:VEVENT
END:VCALENDAR